BEGIN:VCALENDAR
VERSION:2.0
PRODID:-//Kultur Joker - ECPv6.15.20//NONSGML v1.0//EN
CALSCALE:GREGORIAN
METHOD:PUBLISH
X-WR-CALNAME:Kultur Joker
X-ORIGINAL-URL:https://kulturjoker.de
X-WR-CALDESC:Veranstaltungen für Kultur Joker
REFRESH-INTERVAL;VALUE=DURATION:PT1H
X-Robots-Tag:noindex
X-PUBLISHED-TTL:PT1H
BEGIN:VTIMEZONE
TZID:Europe/Berlin
BEGIN:DAYLIGHT
TZOFFSETFROM:+0100
TZOFFSETTO:+0200
TZNAME:CEST
DTSTART:20250330T010000
END:DAYLIGHT
BEGIN:STANDARD
TZOFFSETFROM:+0200
TZOFFSETTO:+0100
TZNAME:CET
DTSTART:20251026T010000
END:STANDARD
BEGIN:DAYLIGHT
TZOFFSETFROM:+0100
TZOFFSETTO:+0200
TZNAME:CEST
DTSTART:20260329T010000
END:DAYLIGHT
BEGIN:STANDARD
TZOFFSETFROM:+0200
TZOFFSETTO:+0100
TZNAME:CET
DTSTART:20261025T010000
END:STANDARD
BEGIN:DAYLIGHT
TZOFFSETFROM:+0100
TZOFFSETTO:+0200
TZNAME:CEST
DTSTART:20270328T010000
END:DAYLIGHT
BEGIN:STANDARD
TZOFFSETFROM:+0200
TZOFFSETTO:+0100
TZNAME:CET
DTSTART:20271031T010000
END:STANDARD
END:VTIMEZONE
BEGIN:VEVENT
DTSTART;TZID=Europe/Berlin:20260426T110000
DTEND;TZID=Europe/Berlin:20260426T120000
DTSTAMP:20260422T005956
CREATED:20260120T102809Z
LAST-MODIFIED:20260120T102809Z
UID:61127-1777201200-1777204800@kulturjoker.de
SUMMARY:marotte Theater - Pit Pinguin
DESCRIPTION:Eines Tages liegt ein Ei im Nest.\nMama und Papa freuen sich riesig.\nAus dem Ei schlüpft eine winziger grauer Wuschel.\nMama und Papa haben alle Flügel voll zu tun.\nAus dem grauen Wuschel wird ein hungriger kleiner Pinguin.\nPit lernt laufen und wie man im ewigen Eis überlebt.\nEines Tages ist Pit groß und das Nest wird ihm zu klein.\nMama und Papa sind ein wenig traurig.\nAber das Leben ist voller Überraschungen.\nUnd eines Tages liegt ein Ei im Nest …
URL:https://kulturjoker.de/veranstaltungen/marotte-theater-pit-pinguin/
LOCATION:Vorderhaus Freiburg\, Habsburgerstraße\, 9\, Freiburg\, Baden-Württemberg\, 79104\, Germany
CATEGORIES:Kids,Theater
ATTACH;FMTTYPE=image/png:https://kulturjoker.de/wp-content/uploads/2026/01/marotte-pinguin.png
ORGANIZER;CN="Vorderhaus":MAILTO:wrobel@fabrik-freiburg.de
END:VEVENT
END:VCALENDAR