BEGIN:VCALENDAR
VERSION:2.0
PRODID:-//Kultur Joker - ECPv6.15.20//NONSGML v1.0//EN
CALSCALE:GREGORIAN
METHOD:PUBLISH
X-WR-CALNAME:Kultur Joker
X-ORIGINAL-URL:https://kulturjoker.de
X-WR-CALDESC:Veranstaltungen für Kultur Joker
REFRESH-INTERVAL;VALUE=DURATION:PT1H
X-Robots-Tag:noindex
X-PUBLISHED-TTL:PT1H
BEGIN:VTIMEZONE
TZID:Europe/Berlin
BEGIN:DAYLIGHT
TZOFFSETFROM:+0100
TZOFFSETTO:+0200
TZNAME:CEST
DTSTART:20250330T010000
END:DAYLIGHT
BEGIN:STANDARD
TZOFFSETFROM:+0200
TZOFFSETTO:+0100
TZNAME:CET
DTSTART:20251026T010000
END:STANDARD
BEGIN:DAYLIGHT
TZOFFSETFROM:+0100
TZOFFSETTO:+0200
TZNAME:CEST
DTSTART:20260329T010000
END:DAYLIGHT
BEGIN:STANDARD
TZOFFSETFROM:+0200
TZOFFSETTO:+0100
TZNAME:CET
DTSTART:20261025T010000
END:STANDARD
BEGIN:DAYLIGHT
TZOFFSETFROM:+0100
TZOFFSETTO:+0200
TZNAME:CEST
DTSTART:20270328T010000
END:DAYLIGHT
BEGIN:STANDARD
TZOFFSETFROM:+0200
TZOFFSETTO:+0100
TZNAME:CET
DTSTART:20271031T010000
END:STANDARD
END:VTIMEZONE
BEGIN:VEVENT
DTSTART;TZID=Europe/Berlin:20260425T200000
DTEND;TZID=Europe/Berlin:20260425T220000
DTSTAMP:20260421T120503
CREATED:20260316T123838Z
LAST-MODIFIED:20260316T123838Z
UID:63592-1777147200-1777154400@kulturjoker.de
SUMMARY:Krummer Hund
DESCRIPTION:nach dem Roman von Juliane Pickel | in einer Fassung von Jana Vetten und dem Theater im Marienbad\nEin Theaterstück für Erwachsene und Jugendliche ab 14 Jahren  \nGasförmige Hitze strömt durch den Körper\, die Brust zieht sich zusammen\, alles ist gleißend hell und es passiert: Daniel gibt es nicht mehr\, nur noch eine unbändige Wut\, die sich gewaltsam Bahn bricht. Das Leben des 15-Jährigen ist kompliziert: Vor Jahren hat Daniels Vater die Familie verlassen und jetzt wird auch noch sein kranker Hund Ozzy\, den ihm sein Vater zuletzt geschenkt hatte\, eingeschläfert. Und als wäre das nicht schon schlimm genug\, verabredet sich seine Mutter ausgerechnet mit dem Tierarzt. Zum Glück gibt es Edda\, Daniels beste Freundin und Quelle makaberster Zeichnungen. Ihr gemeinsames Langzeitprojekt ist es\, alles über ihre sadistische Mitschülerin Alina herauszufinden\, um sich eines Tages an ihr für ihre Boshaftigkeit zu rächen. Doch dann kommt alles anders. Ein Autounfall verändert das Leben der drei und stellt Daniel vor eine große Probe. \nSpielstätte: Szenenraum | Dauer: ca. 100 Minuten\, keine Pause\nHinweis: Die Spielstätte ist barrierearm und kann mit dem Rollstuhl befahren werden.  \nFoto: MiNZ&KUNST
URL:https://kulturjoker.de/veranstaltungen/krummer-hund-2/
LOCATION:Theater im Marienbad\, Marienstraße 4\, Freiburg im Breisgau\, 79098\, Germany
CATEGORIES:Theater
ATTACH;FMTTYPE=image/jpeg:https://kulturjoker.de/wp-content/uploads/2026/02/Krummer-Hund_Kalender_Foto-MiNZZKUNST-1.jpg
ORGANIZER;CN="Theater im Marienbad":MAILTO:presse@marienbad.org
END:VEVENT
BEGIN:VEVENT
DTSTART;TZID=Europe/Berlin:20260426T160000
DTEND;TZID=Europe/Berlin:20260426T173000
DTSTAMP:20260421T120503
CREATED:20260318T124636Z
LAST-MODIFIED:20260318T124636Z
UID:63574-1777219200-1777224600@kulturjoker.de
SUMMARY:Der Zinnsoldat und die Papiertänzerin
DESCRIPTION:von Roland Schimmelpfennig | frei nach dem Märchen „Der standhafte Zinnsoldat“ von H. C. Andersen\nEin Theaterstück für alle ab 8 Jahren \nAuf dem Fensterbrett stehen zwei Spielzeuge\, die unterschiedlicher nicht sein könnten: Ein Zinnsoldat\, dem ein Bein fehlt und eine Papiertänzerin\, die auf einem Bein steht und das andere Bein den ganzen Tag in den Himmel streckt. Das Kind\, das an diesem Tag Geburtstag feiert\, hat die beiden aufgrund ihrer Unzulänglichkeiten aussortiert und einfach dort vergessen. Ein plötzlicher Windstoß weht die beiden Gestalten vom Fensterbrett. Der Zinnsoldat\, schwer wie ein kleiner Stein\, landet auf dem Boden\, die Papiertänzerin\, leicht wie eine Feder\, wird hoch in die Luft gewirbelt. Eine Abenteuerreise beginnt und in der Welt jenseits des Kinderzimmers begegnen sie auf ihren getrennten Wegen sonderbaren und gefährlichen Gestalten: einem gemeinen Zwillingspaar\, einer selbst bezogenen Wolke und Grenzen bewachenden Ratten\, einer besitzergreifenden Elstermutter und einem immens hungrigen aber leicht unentschlossenen Riesenfisch. Ihre Kraft und Hoffnung diese Reise zu überstehen und das vertraute Gegenüber wiederzusehen\, lassen sie all den Widrigkeiten und der Willkür\, der sie ausgeliefert sind\, trotzen. Ja\, und manchmal braucht es einfach ein Wunder\, um Wünsche wahr werden zu lassen. \nSpielstätte: Kesselhaus | Dauer: ca. 70 Minuten\, keine Pause\nHinweis: Die Spielstätte Kesselhaus ist nicht barrierefrei und kann nicht mit dem Rollstuhl befahren werden. \nFoto: Jennifer Rohrbacher
URL:https://kulturjoker.de/veranstaltungen/der-zinnsoldat-und-die-papiertaenzerin/
LOCATION:Theater im Marienbad\, Marienstraße 4\, Freiburg im Breisgau\, 79098\, Germany
CATEGORIES:Kids,Theater
ATTACH;FMTTYPE=image/jpeg:https://kulturjoker.de/wp-content/uploads/2026/02/ZP_Kalender_Foto-Jennifer-Rohrbacher.jpg
END:VEVENT
END:VCALENDAR