BEGIN:VCALENDAR
VERSION:2.0
PRODID:-//Kultur Joker - ECPv6.15.20//NONSGML v1.0//EN
CALSCALE:GREGORIAN
METHOD:PUBLISH
X-ORIGINAL-URL:https://kulturjoker.de
X-WR-CALDESC:Veranstaltungen für Kultur Joker
REFRESH-INTERVAL;VALUE=DURATION:PT1H
X-Robots-Tag:noindex
X-PUBLISHED-TTL:PT1H
BEGIN:VTIMEZONE
TZID:Europe/Berlin
BEGIN:DAYLIGHT
TZOFFSETFROM:+0100
TZOFFSETTO:+0200
TZNAME:CEST
DTSTART:20250330T010000
END:DAYLIGHT
BEGIN:STANDARD
TZOFFSETFROM:+0200
TZOFFSETTO:+0100
TZNAME:CET
DTSTART:20251026T010000
END:STANDARD
BEGIN:DAYLIGHT
TZOFFSETFROM:+0100
TZOFFSETTO:+0200
TZNAME:CEST
DTSTART:20260329T010000
END:DAYLIGHT
BEGIN:STANDARD
TZOFFSETFROM:+0200
TZOFFSETTO:+0100
TZNAME:CET
DTSTART:20261025T010000
END:STANDARD
BEGIN:DAYLIGHT
TZOFFSETFROM:+0100
TZOFFSETTO:+0200
TZNAME:CEST
DTSTART:20270328T010000
END:DAYLIGHT
BEGIN:STANDARD
TZOFFSETFROM:+0200
TZOFFSETTO:+0100
TZNAME:CET
DTSTART:20271031T010000
END:STANDARD
END:VTIMEZONE
BEGIN:VEVENT
DTSTART;TZID=Europe/Berlin:20260530T110000
DTEND;TZID=Europe/Berlin:20260530T130000
DTSTAMP:20260423T202835
CREATED:20260417T141357Z
LAST-MODIFIED:20260417T141357Z
UID:123558-1780138800-1780146000@kulturjoker.de
SUMMARY:Duo Turkeev & Kids "Zirkus Show"
DESCRIPTION:Bad Krozinger Samstag Sommer\nAm Samstagvormittag erwartet euch mit „Samstag Sommer 2026“ eine ganz besondere Veranstaltung für die ganze Familie. Freut euch auf ein abwechslungsreiches Bühnenprogramm voller Emotionen\, Talent und mitreißender Momente.\nEin absolutes Highlight ist der Auftritt von Duo Turkeev & Kids\, den Gewinnern von Super Talent 2025 in Kroatien. Die talentierte Familienformation begeistert mit einer beeindruckenden Mischung aus Akrobatik\, Musik und kreativer Showkunst. Mit außergewöhnlicher Harmonie\, Energie und Leidenschaft haben sie nicht nur die Jury überzeugt\, sondern ein Millionenpublikum begeistert.\nErlebt eine Show voller Staunen\, Freude und familiärer Herzlichkeit – live und hautnah.
URL:https://kulturjoker.de/veranstaltungen/duo-turkeev-kids-zirkus-show/
LOCATION:79189\, Bahnhofsplatz Bad Krozingen\, Bahnhofsplatz\, Bad Krozingen\, Bundesstaat wählen:\, 79189\, Germany
CATEGORIES:Allgemein
ATTACH;FMTTYPE=image/jpeg:https://kulturjoker.de/wp-content/uploads/2026/04/2026_05_30_Duo-Turkeiev-scaled.jpg
ORGANIZER;CN="Mediathek Bad Krozingen":MAILTO:mediathek@bad-krozingen.de
END:VEVENT
END:VCALENDAR