BEGIN:VCALENDAR
VERSION:2.0
PRODID:-//Kultur Joker - ECPv6.15.20//NONSGML v1.0//EN
CALSCALE:GREGORIAN
METHOD:PUBLISH
X-WR-CALNAME:Kultur Joker
X-ORIGINAL-URL:https://kulturjoker.de
X-WR-CALDESC:Veranstaltungen für Kultur Joker
REFRESH-INTERVAL;VALUE=DURATION:PT1H
X-Robots-Tag:noindex
X-PUBLISHED-TTL:PT1H
BEGIN:VTIMEZONE
TZID:Europe/Berlin
BEGIN:DAYLIGHT
TZOFFSETFROM:+0100
TZOFFSETTO:+0200
TZNAME:CEST
DTSTART:20250330T010000
END:DAYLIGHT
BEGIN:STANDARD
TZOFFSETFROM:+0200
TZOFFSETTO:+0100
TZNAME:CET
DTSTART:20251026T010000
END:STANDARD
BEGIN:DAYLIGHT
TZOFFSETFROM:+0100
TZOFFSETTO:+0200
TZNAME:CEST
DTSTART:20260329T010000
END:DAYLIGHT
BEGIN:STANDARD
TZOFFSETFROM:+0200
TZOFFSETTO:+0100
TZNAME:CET
DTSTART:20261025T010000
END:STANDARD
BEGIN:DAYLIGHT
TZOFFSETFROM:+0100
TZOFFSETTO:+0200
TZNAME:CEST
DTSTART:20270328T010000
END:DAYLIGHT
BEGIN:STANDARD
TZOFFSETFROM:+0200
TZOFFSETTO:+0100
TZNAME:CET
DTSTART:20271031T010000
END:STANDARD
END:VTIMEZONE
BEGIN:VEVENT
DTSTART;TZID=Europe/Berlin:20260426T180000
DTEND;TZID=Europe/Berlin:20260426T200000
DTSTAMP:20260422T022731
CREATED:20260318T124646Z
LAST-MODIFIED:20260318T124646Z
UID:121805-1777226400-1777233600@kulturjoker.de
SUMMARY:Europa
DESCRIPTION:Deutschland 1945. Der junge Leopold Kessler kommt aus den USA nach Europa und tritt eine Stelle beim Bahnunternehmen Zentropa an. Ein ganzes Land tut so\, als wären die letzten zwölf Jahre nicht passiert. Egal\, wohin Leopold aus dem Zug schaut: Alle versuchen\, den Blick auf die Wahrheiten von Krieg\, Zerstörung und Shoah zu verstellen. Jalousie herunter\, bitte schauen Sie weg! Auch Leopolds Liebe zu Kat\, der Tochter des Zentropa- Besitzers\, ist überschattet von ihrer Verbindung zum nationalsozialistischen Terror. Inmitten eines im großen Stil inszenierten Versöhnungstheaters verirrt sich Leopold immer mehr im Herzen der Finsternis.\nLars von Trier hat mit Europa eines der treffendsten Porträts über den fragwürdigen Umgang mit der NS-Vergangenheit Deutschlands geschaffen. Gebannt folgen wir seiner Hauptfigur Leopold immer tiefer ins dunkelste Kapitel europäischer Geschichte. Der niederländische Regisseur Mart van Berckel nimmt uns an diesem Abend mit orchestralem Repertoire von spätromantischen Komponisten bis hin zu Werken der Nachkriegsavantgarde auf einen Trip in die Psyche des Zivilisationsbruchs.\nEine musikdramatische Selbstbetrachtung mit Europa von Lars von Trier und Niels Vørsel und Musik von Richard Wagner\, Gustav Mahler\, Richard Strauss\, György Ligeti u. v. m. Im Anschluss Premierenfeier im Winterer-Foyer. Einführung 30 Minuten vor Vorstellungsbeginn. Deutsch von Ulrike Syha
URL:https://kulturjoker.de/veranstaltungen/europa/
LOCATION:Theater Freiburg Großes Haus\, Bertoldstr. 46\, Freiburg\, Baden - Württemberg\, 79098\, Germany
CATEGORIES:Theater
ATTACH;FMTTYPE=image/png:https://kulturjoker.de/wp-content/uploads/2026/03/TF_Stueckposter_Europa-1.png
ORGANIZER;CN="Theater Freiburg":MAILTO:theaterkasse@theater.freiburg.de
END:VEVENT
BEGIN:VEVENT
DTSTART;TZID=Europe/Berlin:20260430T193000
DTEND;TZID=Europe/Berlin:20260430T213000
DTSTAMP:20260422T022731
CREATED:20260319T113207Z
LAST-MODIFIED:20260319T113207Z
UID:121821-1777577400-1777584600@kulturjoker.de
SUMMARY:Europa
DESCRIPTION:Deutschland 1945. Der junge Leopold Kessler kommt aus den USA nach Europa und tritt eine Stelle beim Bahnunternehmen Zentropa an. Ein ganzes Land tut so\, als wären die letzten zwölf Jahre nicht passiert. Egal\, wohin Leopold aus dem Zug schaut: Alle versuchen\, den Blick auf die Wahrheiten von Krieg\, Zerstörung und Shoah zu verstellen. Jalousie herunter\, bitte schauen Sie weg! Auch Leopolds Liebe zu Kat\, der Tochter des Zentropa- Besitzers\, ist überschattet von ihrer Verbindung zum nationalsozialistischen Terror. Inmitten eines im großen Stil inszenierten Versöhnungstheaters verirrt sich Leopold immer mehr im Herzen der Finsternis.\nLars von Trier hat mit Europa eines der treffendsten Porträts über den fragwürdigen Umgang mit der NS-Vergangenheit Deutschlands geschaffen. Gebannt folgen wir seiner Hauptfigur Leopold immer tiefer ins dunkelste Kapitel europäischer Geschichte. Der niederländische Regisseur Mart van Berckel nimmt uns an diesem Abend mit orchestralem Repertoire von spätromantischen Komponisten bis hin zu Werken der Nachkriegsavantgarde auf einen Trip in die Psyche des Zivilisationsbruchs.\nEine musikdramatische Selbstbetrachtung mit Europa von Lars von Trier und Niels Vørsel und Musik von Richard Wagner\, Gustav Mahler\, Richard Strauss\, György Ligeti u.v.m. Einführung 30 Minuten vor Vorstellungsbeginn. Deutsch von Ulrike Syha
URL:https://kulturjoker.de/veranstaltungen/europa-2/
LOCATION:Theater Freiburg Großes Haus\, Bertoldstr. 46\, Freiburg\, Baden - Württemberg\, 79098\, Germany
CATEGORIES:Theater
ATTACH;FMTTYPE=image/png:https://kulturjoker.de/wp-content/uploads/2026/03/TF_Stueckposter_Europa-2.png
ORGANIZER;CN="Theater Freiburg":MAILTO:theaterkasse@theater.freiburg.de
END:VEVENT
END:VCALENDAR