BEGIN:VCALENDAR
VERSION:2.0
PRODID:-//Kultur Joker - ECPv6.15.20//NONSGML v1.0//EN
CALSCALE:GREGORIAN
METHOD:PUBLISH
X-ORIGINAL-URL:https://kulturjoker.de
X-WR-CALDESC:Veranstaltungen für Kultur Joker
REFRESH-INTERVAL;VALUE=DURATION:PT1H
X-Robots-Tag:noindex
X-PUBLISHED-TTL:PT1H
BEGIN:VTIMEZONE
TZID:Europe/Berlin
BEGIN:DAYLIGHT
TZOFFSETFROM:+0100
TZOFFSETTO:+0200
TZNAME:CEST
DTSTART:20250330T010000
END:DAYLIGHT
BEGIN:STANDARD
TZOFFSETFROM:+0200
TZOFFSETTO:+0100
TZNAME:CET
DTSTART:20251026T010000
END:STANDARD
BEGIN:DAYLIGHT
TZOFFSETFROM:+0100
TZOFFSETTO:+0200
TZNAME:CEST
DTSTART:20260329T010000
END:DAYLIGHT
BEGIN:STANDARD
TZOFFSETFROM:+0200
TZOFFSETTO:+0100
TZNAME:CET
DTSTART:20261025T010000
END:STANDARD
BEGIN:DAYLIGHT
TZOFFSETFROM:+0100
TZOFFSETTO:+0200
TZNAME:CEST
DTSTART:20270328T010000
END:DAYLIGHT
BEGIN:STANDARD
TZOFFSETFROM:+0200
TZOFFSETTO:+0100
TZNAME:CET
DTSTART:20271031T010000
END:STANDARD
END:VTIMEZONE
BEGIN:VEVENT
DTSTART;TZID=Europe/Berlin:20260425T193000
DTEND;TZID=Europe/Berlin:20260425T220000
DTSTAMP:20260421T211229
CREATED:20260316T123900Z
LAST-MODIFIED:20260316T123900Z
UID:122013-1777145400-1777154400@kulturjoker.de
SUMMARY:Frühjahrs-Doppelkonzert im Tuniberghaus
DESCRIPTION:Der Musikverein Freiburg-Tiengen e.V. heißt als Gastgeber den Musikverein Freiburg-St.Georgen e.V. als Gastverein herzlich willkommen.\nBeim gemeinsamen Doppelkonzert präsentieren beide Orchester ein gut eingängiges\, ausgewogenes\, schwungvolles und abwechslungsreiches Repertoire.\nEröffnet wird der Abend vom Musikverein Freiburg-St.Georgen unter der musikalischen Leitung ihres Dirigenten Jürgen Burmeister mit sehr eingehenden Klängen:\n◦ Marsch-Bou-Shu (Satoshi Yagisawa)\n◦ Greensleeves (Alfred Reed)\n◦ Concert Prelude (Philipp Sparke)\n◦ Out of Africa (John Barry\, Arr. Johan de Meij)\n◦ The Wizard of Oz (Arr. James Barnes)\nNach einer Pause präsentiert im zweiten Teil der Musikverein Freiburg-Tiengen unter der musikalischen Leitung von MD Alfredo Mendieta eine bunte Mischung aus populären Melodien:\n◦ Sedona (Steven Reineke)\n◦ Lord Tullamore (Carl Wittrock)\n◦ Cake-Walk Phantasy (Peter Milray\, Arr. Johan de Meij)\n◦ My Fair Lady (Frederick Loewe\, Arr. Alfred Reed)\n◦ West Side Story (Leonard Bernstein\, Arr. Naohiro Iwai) \nKulinarik:\nFür das leibliche Wohl ist bestens gesorgt:\, es werden ausgewählte Weine aus Tiengen\, frische Sekte\, Aperol Spritz\, Drinks an der Bar sowie belegte Schnittchen angeboten. \nAnreise:\n• Öffentliche Verkehrsmittel: VAG\, FRELO – Haltestellen direkt vor dem Haus\n• Alternativ: Auto\, Rad oder zu Fuß\n• Parkmöglichkeiten direkt am Haus vorhanden \nTickets und Vorverkauf:\n• Vorverkauf: 10€ | Abendkasse: 12€\n• Schüler und Studenten unter Vorlage des Schüler-/Studentenausweises an der Abendkasse: 6€\n• Kinder unter 14 Jahren frei\n• Vorverkauf bei allen Musikerinnen/Musikern des Musikvereins Freiburg-Tiengen und des Musikvereins Freiburg-St.Georgen;\nzusätzlich bei Blumen-Stirba (Etzmattenstraße 6\, 79112 Freiburg-Tiengen) und Physio-Kinetik (Etzmattenstraße 37\, 79112 Freiburg-Tiengen) \nFreuen Sie sich auf einen frühlingsfrischen Konzertabend mit leichten Melodien\, die Frühlingsgefühle wecken\, gute Laune verbreiten und zum Zuhören einladen. Wir freuen uns auf Sie!
URL:https://kulturjoker.de/veranstaltungen/fruehjahrs-doppelkonzert-im-tuniberghaus/
LOCATION:Tuniberghaus\, Im Maierbrühl 2\, Freiburg im Breisgau\, 79112\, Deutschland
CATEGORIES:Kunst,Musik
ATTACH;FMTTYPE=image/jpeg:https://kulturjoker.de/wp-content/uploads/2026/03/Flyer-selbst-zusammengeschnitten-ohne-Werbung.jpg
ORGANIZER;CN="Musikverein Freiburg-Tiengen e.V.":MAILTO:vorstand-pr@mv-tiengen.de
END:VEVENT
BEGIN:VEVENT
DTSTART;TZID=Europe/Berlin:20260429T180000
DTEND;TZID=Europe/Berlin:20260429T200000
DTSTAMP:20260421T211229
CREATED:20260204T113544Z
LAST-MODIFIED:20260204T113544Z
UID:61973-1777485600-1777492800@kulturjoker.de
SUMMARY:Debut Jugendsinfonieorchester Freiburg
DESCRIPTION:Das neu gegründete Jugendsinfonieorchester Freiburg gibt sein erstes Konzert. Ca. 35 Jugendliche haben sich zusammengefunden\, um wöchentlich an Werken der Romantik und Moderne zu proben. Das Besondere an dem Orchester: unabhängig von Schule oder Institution bestimmen die Jugendlichen selbst\, die Geschicke des Orchesters und bringen sich für das Orchester ein. Nach diesem Auftakt will das Orchester ab dem Schuljahr 2026/27 richtig durchstarten!\nMehr Informationen unter: https://jso-freiburg.de
URL:https://kulturjoker.de/veranstaltungen/debut-jugendsinfonieorchester-freiburg/
LOCATION:Evangelisches Gemeindezentrum Kirchzarten\, Schauinslandstraße 8\, Kirchzarten\, Baden-Württemberg\, 79199\, Germany
CATEGORIES:Musik
ORGANIZER;CN="Jugendsinfonieorchester Freiburg":MAILTO:kontakt@jso-freiburg.de
END:VEVENT
BEGIN:VEVENT
DTSTART;TZID=Europe/Berlin:20260430T180000
DTEND;TZID=Europe/Berlin:20260430T200000
DTSTAMP:20260421T211229
CREATED:20260204T113544Z
LAST-MODIFIED:20260204T113544Z
UID:61979-1777572000-1777579200@kulturjoker.de
SUMMARY:Debutkonzert Jugendsinfonieorchester Freiburg
DESCRIPTION:Nachdem am 29.4. bereits das 1. Konzert in Kirchzarten gefeiert wurde\, folgt am 30.4. das Konzert in Freiburg.\nEnde Januar zum ersten Mal getroffen\, stellen ca. 35 Jugendliche sinfonisches Konzertprogramm vor. Das Jugendsinfonieorchester Freiburg hat sich neu gegründet\, um engagierten musikbegeisterten Jugendlichen ein Zuhause zu geben. Unabhängig von Schule oder anderen Institutionen bestimmen die Jugendlichen selbst die Geschicke des Orchesters und setzen sich für dieses ein.\nBei dem Konzert werden Werke aus der Romantik und Modern zu Gehör gebracht. Ab dem Schuljahr 2026/27 will das Orchester dann richtig durchstarten.\nMehr Informationen zum Konzert finden Sie auch unter https://jso-freiburg.de
URL:https://kulturjoker.de/veranstaltungen/debutkonzert-jugendsinfonieorchester-freiburg/
LOCATION:Kreuzkirche\, Fehrenbachallee 50\, Freiburg\, 79106
CATEGORIES:Musik
END:VEVENT
END:VCALENDAR