BEGIN:VCALENDAR
VERSION:2.0
PRODID:-//Kultur Joker - ECPv6.15.20//NONSGML v1.0//EN
CALSCALE:GREGORIAN
METHOD:PUBLISH
X-ORIGINAL-URL:https://kulturjoker.de
X-WR-CALDESC:Veranstaltungen für Kultur Joker
REFRESH-INTERVAL;VALUE=DURATION:PT1H
X-Robots-Tag:noindex
X-PUBLISHED-TTL:PT1H
BEGIN:VTIMEZONE
TZID:Europe/Berlin
BEGIN:DAYLIGHT
TZOFFSETFROM:+0100
TZOFFSETTO:+0200
TZNAME:CEST
DTSTART:20250330T010000
END:DAYLIGHT
BEGIN:STANDARD
TZOFFSETFROM:+0200
TZOFFSETTO:+0100
TZNAME:CET
DTSTART:20251026T010000
END:STANDARD
BEGIN:DAYLIGHT
TZOFFSETFROM:+0100
TZOFFSETTO:+0200
TZNAME:CEST
DTSTART:20260329T010000
END:DAYLIGHT
BEGIN:STANDARD
TZOFFSETFROM:+0200
TZOFFSETTO:+0100
TZNAME:CET
DTSTART:20261025T010000
END:STANDARD
BEGIN:DAYLIGHT
TZOFFSETFROM:+0100
TZOFFSETTO:+0200
TZNAME:CEST
DTSTART:20270328T010000
END:DAYLIGHT
BEGIN:STANDARD
TZOFFSETFROM:+0200
TZOFFSETTO:+0100
TZNAME:CET
DTSTART:20271031T010000
END:STANDARD
END:VTIMEZONE
BEGIN:VEVENT
DTSTART;TZID=Europe/Berlin:20260621T130000
DTEND;TZID=Europe/Berlin:20260621T170000
DTSTAMP:20260422T005406
CREATED:20260417T141522Z
LAST-MODIFIED:20260417T141522Z
UID:124345-1782046800-1782061200@kulturjoker.de
SUMMARY:Tag der Musik mit Instrumenten- und Musikalienbörse
DESCRIPTION:Am dritten Juniwochenende beteiligt sich der Storchenhof erstmalig am bundesweiten Tag der Musik des Deutschen Musikrates. Im Fokus steht eine Instrumenten- und Musikalienbörse\, die Raum zum Kaufen\, Verkaufen und Tauschen bietet. Von der Gitarre über Notenbücher bis hin zum Stimmgerät findet hier alles eine zweite Chance\, was von einer Person getragen werden kann. Für größere Objekte wie Klaviere steht eine Inseratswand zur Verfügung. \nZusätzlich gibt es einen Tauschtisch für Sachspenden\, deren Erlös der Storchenhof Stiftung zugutekommt. Ein Rahmenprogramm mit Ukulele-Workshop sowie Kaffee und Kuchen lädt zum Verweilen ein. Der Hof ist nach der Matinée bis etwa 17:30 Uhr geöffnet. \nAlle weiteren Details und Informationen zur Anmeldung finden Sie unter https://www.im-storchenhof.de/-/v2026-21-06-ib/
URL:https://kulturjoker.de/veranstaltungen/tag-der-musik-mit-instrumenten-und-musikalienboerse/
LOCATION:Storchenhof Teningen\, Bahlinger Str. 25\, Teningen\, 79331\, Germany
CATEGORIES:Markt
ATTACH;FMTTYPE=image/jpeg:https://kulturjoker.de/wp-content/uploads/2026/04/neelam279-teacher-gradebook-7278319-scaled.jpg
ORGANIZER;CN="Storchenhof Stiftung":MAILTO:kontakt@im-storchenhof.de
END:VEVENT
END:VCALENDAR