BEGIN:VCALENDAR
VERSION:2.0
PRODID:-//Kultur Joker - ECPv6.15.20//NONSGML v1.0//EN
CALSCALE:GREGORIAN
METHOD:PUBLISH
X-WR-CALNAME:Kultur Joker
X-ORIGINAL-URL:https://kulturjoker.de
X-WR-CALDESC:Veranstaltungen für Kultur Joker
REFRESH-INTERVAL;VALUE=DURATION:PT1H
X-Robots-Tag:noindex
X-PUBLISHED-TTL:PT1H
BEGIN:VTIMEZONE
TZID:Europe/Berlin
BEGIN:DAYLIGHT
TZOFFSETFROM:+0100
TZOFFSETTO:+0200
TZNAME:CEST
DTSTART:20250330T010000
END:DAYLIGHT
BEGIN:STANDARD
TZOFFSETFROM:+0200
TZOFFSETTO:+0100
TZNAME:CET
DTSTART:20251026T010000
END:STANDARD
BEGIN:DAYLIGHT
TZOFFSETFROM:+0100
TZOFFSETTO:+0200
TZNAME:CEST
DTSTART:20260329T010000
END:DAYLIGHT
BEGIN:STANDARD
TZOFFSETFROM:+0200
TZOFFSETTO:+0100
TZNAME:CET
DTSTART:20261025T010000
END:STANDARD
BEGIN:DAYLIGHT
TZOFFSETFROM:+0100
TZOFFSETTO:+0200
TZNAME:CEST
DTSTART:20270328T010000
END:DAYLIGHT
BEGIN:STANDARD
TZOFFSETFROM:+0200
TZOFFSETTO:+0100
TZNAME:CET
DTSTART:20271031T010000
END:STANDARD
END:VTIMEZONE
BEGIN:VEVENT
DTSTART;TZID=Europe/Berlin:20260426T180000
DTEND;TZID=Europe/Berlin:20260426T200000
DTSTAMP:20260422T014452
CREATED:20251213T102705Z
LAST-MODIFIED:20251213T102705Z
UID:59036-1777226400-1777233600@kulturjoker.de
SUMMARY:Bernd Gieseking – Das kuriose Ostwestfalen Buch
DESCRIPTION:Bernd Gieseking ist nach 30 Jahren zurückgekehrt nach Ostwestfalen\, in seine Heimat. Anlass sind die älter werdenden Eltern\, die ihn in aberwitzige\, „loriothafte“ Dialoge verwickeln. Und gleichzeitig entdeckt der weitgereiste Kabarettist diese oft und früher von ihm selbst unterschätzte Region. Hier kehrt ein Zugvogel zurück und schreibt über Heimat und Heimkehr. \nBernd Gieseking schaffte es mit „Das kuriose Ostwestfalen Buch“\, seinem neuesten Werk\, zum Erscheinen sogar auf die Spiegel Bestsellerliste. \nEin Abend längst nicht nur für Ostwestfalen. Gieseking wird zum Botschafter seiner Region. Als humoriger Ethnologe beschreibt er Ostwestfalen-Lippe als Synonym für Heimat und berichtet von zahlreichen „Grappen“\, den faszinierenden Seltsamkeiten der Menschen hier\, die vielen anderen aber durchaus ähnlich sind. Die Ostwestfalen jedenfalls sind ein wunderbar knorriger Menschenschlag mit trockenstem Humor. Die Ostwestfalen sind die Finnen von Deutschland. \nMit: Bernd Gieseking
URL:https://kulturjoker.de/veranstaltungen/bernd-gieseking-das-kuriose-ostwestfalen-buch/
LOCATION:Theater Kumedi\, Römerstr. 2\, Riegel\, 79359\, Germany
CATEGORIES:Kabarett & Comedy
ATTACH;FMTTYPE=image/png:https://kulturjoker.de/wp-content/uploads/2025/12/Bildschirmfoto-2025-07-11-um-10.42.19-e1752223389717.png
ORGANIZER;CN="Theater Kumedi":MAILTO:info@kumedi.de
END:VEVENT
END:VCALENDAR