BEGIN:VCALENDAR
VERSION:2.0
PRODID:-//Kultur Joker - ECPv6.15.20//NONSGML v1.0//EN
CALSCALE:GREGORIAN
METHOD:PUBLISH
X-WR-CALNAME:Kultur Joker
X-ORIGINAL-URL:https://kulturjoker.de
X-WR-CALDESC:Veranstaltungen für Kultur Joker
REFRESH-INTERVAL;VALUE=DURATION:PT1H
X-Robots-Tag:noindex
X-PUBLISHED-TTL:PT1H
BEGIN:VTIMEZONE
TZID:Europe/Berlin
BEGIN:DAYLIGHT
TZOFFSETFROM:+0100
TZOFFSETTO:+0200
TZNAME:CEST
DTSTART:20250330T010000
END:DAYLIGHT
BEGIN:STANDARD
TZOFFSETFROM:+0200
TZOFFSETTO:+0100
TZNAME:CET
DTSTART:20251026T010000
END:STANDARD
BEGIN:DAYLIGHT
TZOFFSETFROM:+0100
TZOFFSETTO:+0200
TZNAME:CEST
DTSTART:20260329T010000
END:DAYLIGHT
BEGIN:STANDARD
TZOFFSETFROM:+0200
TZOFFSETTO:+0100
TZNAME:CET
DTSTART:20261025T010000
END:STANDARD
BEGIN:DAYLIGHT
TZOFFSETFROM:+0100
TZOFFSETTO:+0200
TZNAME:CEST
DTSTART:20270328T010000
END:DAYLIGHT
BEGIN:STANDARD
TZOFFSETFROM:+0200
TZOFFSETTO:+0100
TZNAME:CET
DTSTART:20271031T010000
END:STANDARD
END:VTIMEZONE
BEGIN:VEVENT
DTSTART;TZID=Europe/Berlin:20260502T180000
DTEND;TZID=Europe/Berlin:20260502T190000
DTSTAMP:20260425T185917
CREATED:20260413T112006Z
LAST-MODIFIED:20260413T112006Z
UID:123407-1777744800-1777748400@kulturjoker.de
SUMMARY:Lebendige Kunst\, engagiertes Theater – Deutsch-französische Performance im Studio Pro Arte
DESCRIPTION:Was bedeutet es heute\, sich künstlerisch zu positionieren? Und wie lässt sich das\, was bewegt\, berührt oder empört\, mit einem Publikum teilen? \nMit Lebendige Kunst\, engagiertes Theater zeigen Studierende zweier Schauspielschulen aus Lyon und Freiburg das Ergebnis eines intensiven\, zweiwöchigen Austauschs. Entstanden ist eine Performance\, die sich bewusst zwischen Theater\, Bewegung und persönlichem Ausdruck bewegt – direkt\, suchend und nah am Publikum. \nUnter der Leitung von Natacha Paquignon\, Séverine Chasson und Markus Schlüter arbeiten die Teilnehmenden an der Frage\, wie Kunst Haltung zeigen kann. Ausgangspunkt sind eigene Themen und Erfahrungen\, die in Szenen\, Körperarbeit und gemeinsame Formate übersetzt werden. \nDie Begegnung der beiden Gruppen begann im Oktober 2025 in Lyon im Rahmen des Festivals Sens Interdits und wird nun in Freiburg fortgeführt. Die Präsentation im Studio Pro Arte macht diesen Prozess sichtbar – als offenes\, lebendiges Ergebnis einer künstlerischen Recherche über Grenzen hinweg. \nDie Aufführung ist Teil des Frei Art Festival – Spring Edition\, das internationale Kooperationen\, Nachwuchsprojekte und professionelle Arbeiten miteinander verbindet und Raum für Austausch und neue Perspektiven schafft. \nEine unmittelbare Performance – roh\, persönlich und im Dialog mit dem Publikum. \nMitwirkende: Studierende der Schauspielschulen aus Lyon und Freiburg\nKünstlerische Leitung: Natacha Paquignon\, Séverine Chasson\, Markus Schlüter \nDatum: Samstag\, 2. Mai 2026\, 18:00 Uhr\nOrt: Studio Pro Arte – Tanzhaus & Kulturzentrum\, Freiburg/Merzhausen\nPreis: Spendenbasis \nHinweis: Keine Reservierung erforderlich\nTickets & Festivalinfos: www.freiartfestival.com\nOrganisiert von der Plattform für deutsch-französische Kunst in Kooperation mit den beteiligten Schauspielschulen. Gefördert durch das Deutsch-Französisches Jugendwerk und die DRAJES.
URL:https://kulturjoker.de/veranstaltungen/lebendige-kunst-engagiertes-theater-deutsch-franzoesische-performance-im-studio-pro-arte/
LOCATION:Studio Pro Arte – Tanzhaus & Kulturzentrum\, Am Rohrgraben 4a\, Merzhausen\, Baden-Württemberg\, 79249\, Germany
CATEGORIES:Theater
ATTACH;FMTTYPE=image/jpeg:https://kulturjoker.de/wp-content/uploads/2026/04/Werkschau-Foto-Markus-Schlueter-scaled.jpg
ORGANIZER;CN="Studio Pro Arte":MAILTO:info@studioproarte.de
END:VEVENT
BEGIN:VEVENT
DTSTART;TZID=Europe/Berlin:20260503T160000
DTEND;TZID=Europe/Berlin:20260503T170000
DTSTAMP:20260425T185917
CREATED:20260413T133924Z
LAST-MODIFIED:20260413T133924Z
UID:123581-1777824000-1777827600@kulturjoker.de
SUMMARY:Das Festmahl der Spinne
DESCRIPTION:In der Ballettmusik von Albert Roussel haben Spinnen\, Schmetterlinge\, Regenwürmer und Eintagsfliegen ihren großen Auftritt und erzählen nicht nur die Geschichte einer hungrigen Spinne. Unser Swarm Lab\, eine Gruppe tanzfreudiger Jugendlicher unter der Leitung von Andy Zondag\, lässt die Insekten tanzen. Die Musik kommt live vom Philharmonischen Orchester Freiburg. \nFamilienkonzert mit dem Swarm Lab und der Musik von Albert Roussel \nMusikalische Leitung: André de Ridder\, Konzept und szenische Einrichtung: Annika Kirschke\, Choreografie: Andy Zondag \nMit: Philharmonisches Orchester Freiburg\, Victor Calero
URL:https://kulturjoker.de/veranstaltungen/das-festmahl-der-spinne/
LOCATION:Theater Freiburg Großes Haus\, Bertoldstr. 46\, Freiburg\, Baden - Württemberg\, 79098\, Germany
CATEGORIES:Theater
ATTACH;FMTTYPE=image/jpeg:https://kulturjoker.de/wp-content/uploads/2026/04/TF_Rakete_JungesTheater_Filter-scaled.jpg
ORGANIZER;CN="Theater Freiburg":MAILTO:theaterkasse@theater.freiburg.de
END:VEVENT
BEGIN:VEVENT
DTSTART;TZID=Europe/Berlin:20260503T180000
DTEND;TZID=Europe/Berlin:20260503T190000
DTSTAMP:20260425T185917
CREATED:20260413T133952Z
LAST-MODIFIED:20260413T133952Z
UID:123731-1777831200-1777834800@kulturjoker.de
SUMMARY:Sprechen
DESCRIPTION:Du hast einen Gedanken im Kopf. Er muss unbedingt raus in die Welt. Du holst tief Luft. Und jetzt? Vielleicht bringst du dein Zwerchfell und deinen Kehlkopf in Stellung. Deine Zunge erwacht. Deine Lippen steigen mit ein. Vielleicht bringst du deine Finger ins Spiel\, zeichnest Dinge in die Luft. Du ziehst deine Schultern zu den Ohren. Du hebst deine Arme. Du nickst mit deinem Kopf. Dein Körper fängt an zu sprechen. Du sprichst ganz schnell\, denn du bist aufgeregt. Oder du sprichst ganz langsam. Denn du möchtest\, dass die Welt deine Gedanken ganz genau versteht.\nIn diesem Tanzstück beschäftigen sich professionelle und nicht professionelle Darsteller*innen damit\, wie wir miteinander ins Sprechen kommen – und wer dabei was wie versteht. Experimentiert wird hierbei u. a. mit Laut- und Gebärdensprache.
URL:https://kulturjoker.de/veranstaltungen/sprechen-3/
LOCATION:Theater Freiburg Werkraum\, Bertoldstraße 46\, Freiburg\, Baden - Württemberg\, 79098\, Germany
CATEGORIES:Theater
ATTACH;FMTTYPE=image/png:https://kulturjoker.de/wp-content/uploads/2026/04/TF_Stueckposter_Sprechen.png
ORGANIZER;CN="Theater Freiburg":MAILTO:theaterkasse@theater.freiburg.de
END:VEVENT
BEGIN:VEVENT
DTSTART;TZID=Europe/Berlin:20260503T190000
DTEND;TZID=Europe/Berlin:20260503T202000
DTSTAMP:20260425T185917
CREATED:20260413T133956Z
LAST-MODIFIED:20260413T133956Z
UID:123771-1777834800-1777839600@kulturjoker.de
SUMMARY:MONSTRĀRE
DESCRIPTION:Tretet näher\, nur keine Scheu! Willkommen im Zwischenreich\, ihr Verlorenen\, ihr Suchenden\, ihr Mutigen\, die ihr gekommen seid\, um euch ein kleines bisschen zu fürchten.\nMONSTRĀRE verwandelt das Kleine Haus des Theater Freiburg in ein schillerndes Gruselkabinett. Aber keines\, in dem das neugierige Publikum nur staunend an den Monstern vorbeischleicht. Hier drängen sich die Monster selbst auf die Bühne\, zeigen sich\, erzählen ihre Geschichten. Wir alle kennen die alten Gestalten\, charismatische oder abstoßende\, allein gelassene oder bedrängte Grenzfiguren der sozialen Ordnung: Frankensteins Monster\, Dracula\, Zombies\, King Kong. Sie spiegelten auch immer die Ängste\, Tabus und sozialen (Un-)Gerechtigkeiten der Gesellschaft wider\, die sie erfand. Aber welche Monster begleiten eigentlich unsere heutige Zeit? Was sind die politischen Gespenster\, die im Alltag rumoren – der Horror der Erfahrung von Ausgrenzung? Der Grusel\, erwachsen zu werden? Das Schaudern vor ökologischen Krisen und einer unsicheren Zukunft?\nDiesen Fragen gehen Freiburger Jugendliche gemeinsam mit den Regisseurinnen Brandy Butler und Kenza Nessaf nach. Sie laden ein zu einer Horrorshow zwischen Glamour\, Grusel und den eigenen Geschichten.
URL:https://kulturjoker.de/veranstaltungen/monstrare/
LOCATION:Theater Freiburg Kleines Haus\, Bertoldstr. 46\, Freiburg\, Baden - Württemberg\, 79098\, Germany
CATEGORIES:Theater
ATTACH;FMTTYPE=image/jpeg:https://kulturjoker.de/wp-content/uploads/2026/04/01_MONSTRARE_Malik-E-Ersen-Ria-Amalie-Kohler-Isabel-Maenner_-c-Lukas-Heibges.jpg
ORGANIZER;CN="Theater Freiburg":MAILTO:theaterkasse@theater.freiburg.de
END:VEVENT
BEGIN:VEVENT
DTSTART;TZID=Europe/Berlin:20260504T100000
DTEND;TZID=Europe/Berlin:20260504T110000
DTSTAMP:20260425T185917
CREATED:20260416T112202Z
LAST-MODIFIED:20260416T112202Z
UID:123736-1777888800-1777892400@kulturjoker.de
SUMMARY:Sprechen
DESCRIPTION:Du hast einen Gedanken im Kopf. Er muss unbedingt raus in die Welt. Du holst tief Luft. Und jetzt? Vielleicht bringst du dein Zwerchfell und deinen Kehlkopf in Stellung. Deine Zunge erwacht. Deine Lippen steigen mit ein. Vielleicht bringst du deine Finger ins Spiel\, zeichnest Dinge in die Luft. Du ziehst deine Schultern zu den Ohren. Du hebst deine Arme. Du nickst mit deinem Kopf. Dein Körper fängt an zu sprechen. Du sprichst ganz schnell\, denn du bist aufgeregt. Oder du sprichst ganz langsam. Denn du möchtest\, dass die Welt deine Gedanken ganz genau versteht.\nIn diesem Tanzstück beschäftigen sich professionelle und nicht professionelle Darsteller*innen damit\, wie wir miteinander ins Sprechen kommen – und wer dabei was wie versteht. Experimentiert wird hierbei u. a. mit Laut- und Gebärdensprache.
URL:https://kulturjoker.de/veranstaltungen/sprechen-4/
LOCATION:Theater Freiburg Werkraum\, Bertoldstraße 46\, Freiburg\, Baden - Württemberg\, 79098\, Germany
CATEGORIES:Theater
ATTACH;FMTTYPE=image/png:https://kulturjoker.de/wp-content/uploads/2026/04/TF_Stueckposter_Sprechen-1.png
ORGANIZER;CN="Theater Freiburg":MAILTO:theaterkasse@theater.freiburg.de
END:VEVENT
BEGIN:VEVENT
DTSTART;TZID=Europe/Berlin:20260507T180000
DTEND;TZID=Europe/Berlin:20260507T190000
DTSTAMP:20260425T185917
CREATED:20260416T112246Z
LAST-MODIFIED:20260416T112246Z
UID:123741-1778176800-1778180400@kulturjoker.de
SUMMARY:Sprechen
DESCRIPTION:Du hast einen Gedanken im Kopf. Er muss unbedingt raus in die Welt. Du holst tief Luft. Und jetzt? Vielleicht bringst du dein Zwerchfell und deinen Kehlkopf in Stellung. Deine Zunge erwacht. Deine Lippen steigen mit ein. Vielleicht bringst du deine Finger ins Spiel\, zeichnest Dinge in die Luft. Du ziehst deine Schultern zu den Ohren. Du hebst deine Arme. Du nickst mit deinem Kopf. Dein Körper fängt an zu sprechen. Du sprichst ganz schnell\, denn du bist aufgeregt. Oder du sprichst ganz langsam. Denn du möchtest\, dass die Welt deine Gedanken ganz genau versteht.\nIn diesem Tanzstück beschäftigen sich professionelle und nicht professionelle Darsteller*innen damit\, wie wir miteinander ins Sprechen kommen – und wer dabei was wie versteht. Experimentiert wird hierbei u. a. mit Laut- und Gebärdensprache.
URL:https://kulturjoker.de/veranstaltungen/sprechen-5/
LOCATION:Theater Freiburg Werkraum\, Bertoldstraße 46\, Freiburg\, Baden - Württemberg\, 79098\, Germany
CATEGORIES:Theater
ATTACH;FMTTYPE=image/png:https://kulturjoker.de/wp-content/uploads/2026/04/TF_Stueckposter_Sprechen-2.png
ORGANIZER;CN="Theater Freiburg":MAILTO:theaterkasse@theater.freiburg.de
END:VEVENT
BEGIN:VEVENT
DTSTART;TZID=Europe/Berlin:20260510T150000
DTEND;TZID=Europe/Berlin:20260510T160000
DTSTAMP:20260425T185917
CREATED:20260416T112342Z
LAST-MODIFIED:20260416T112423Z
UID:123588-1778425200-1778428800@kulturjoker.de
SUMMARY:Das Festmahl der Spinne
DESCRIPTION:In der Ballettmusik von Albert Roussel haben Spinnen\, Schmetterlinge\, Regenwürmer und Eintagsfliegen ihren großen Auftritt und erzählen nicht nur die Geschichte einer hungrigen Spinne. Unser Swarm Lab\, eine Gruppe tanzfreudiger Jugendlicher unter der Leitung von Andy Zondag\, lässt die Insekten tanzen. Die Musik kommt live vom Philharmonischen Orchester Freiburg. \nFamilienkonzert mit dem Swarm Lab und der Musik von Albert Roussel \nMusikalische Leitung: André de Ridder\, Konzept und szenische Einrichtung: Annika Kirschke\, Choreografie: Andy Zondag \nMit: Philharmonisches Orchester Freiburg\, Victor Calero
URL:https://kulturjoker.de/veranstaltungen/das-festmahl-der-spinne-2/
LOCATION:Theater Freiburg Großes Haus\, Bertoldstr. 46\, Freiburg\, Baden - Württemberg\, 79098\, Germany
CATEGORIES:Theater
ATTACH;FMTTYPE=image/jpeg:https://kulturjoker.de/wp-content/uploads/2026/04/TF_Rakete_JungesTheater_Filter-1-scaled.jpg
ORGANIZER;CN="Theater Freiburg":MAILTO:theaterkasse@theater.freiburg.de
END:VEVENT
BEGIN:VEVENT
DTSTART;TZID=Europe/Berlin:20260510T170000
DTEND;TZID=Europe/Berlin:20260510T180000
DTSTAMP:20260425T185917
CREATED:20260416T112347Z
LAST-MODIFIED:20260416T112347Z
UID:123597-1778432400-1778436000@kulturjoker.de
SUMMARY:Das Festmahl der Spinne
DESCRIPTION:In der Ballettmusik von Albert Roussel haben Spinnen\, Schmetterlinge\, Regenwürmer und Eintagsfliegen ihren großen Auftritt und erzählen nicht nur die Geschichte einer hungrigen Spinne. Unser Swarm Lab\, eine Gruppe tanzfreudiger Jugendlicher unter der Leitung von Andy Zondag\, lässt die Insekten tanzen. Die Musik kommt live vom Philharmonischen Orchester Freiburg. \nFamilienkonzert mit dem Swarm Lab und der Musik von Albert Roussel \nMusikalische Leitung: André de Ridder\, Konzept und szenische Einrichtung: Annika Kirschke\, Choreografie: Andy Zondag \nMit: Philharmonisches Orchester Freiburg\, Victor Calero
URL:https://kulturjoker.de/veranstaltungen/das-festmahl-der-spinne-3/
LOCATION:Theater Freiburg Großes Haus\, Bertoldstr. 46\, Freiburg\, Baden - Württemberg\, 79098\, Germany
CATEGORIES:Theater
ATTACH;FMTTYPE=image/jpeg:https://kulturjoker.de/wp-content/uploads/2026/04/TF_Rakete_JungesTheater_Filter-2-scaled.jpg
ORGANIZER;CN="Theater Freiburg":MAILTO:theaterkasse@theater.freiburg.de
END:VEVENT
BEGIN:VEVENT
DTSTART;TZID=Europe/Berlin:20260513T100000
DTEND;TZID=Europe/Berlin:20260513T110000
DTSTAMP:20260425T185917
CREATED:20260417T141306Z
LAST-MODIFIED:20260417T141306Z
UID:123746-1778666400-1778670000@kulturjoker.de
SUMMARY:Sprechen
DESCRIPTION:Du hast einen Gedanken im Kopf. Er muss unbedingt raus in die Welt. Du holst tief Luft. Und jetzt? Vielleicht bringst du dein Zwerchfell und deinen Kehlkopf in Stellung. Deine Zunge erwacht. Deine Lippen steigen mit ein. Vielleicht bringst du deine Finger ins Spiel\, zeichnest Dinge in die Luft. Du ziehst deine Schultern zu den Ohren. Du hebst deine Arme. Du nickst mit deinem Kopf. Dein Körper fängt an zu sprechen. Du sprichst ganz schnell\, denn du bist aufgeregt. Oder du sprichst ganz langsam. Denn du möchtest\, dass die Welt deine Gedanken ganz genau versteht.\nIn diesem Tanzstück beschäftigen sich professionelle und nicht professionelle Darsteller*innen damit\, wie wir miteinander ins Sprechen kommen – und wer dabei was wie versteht. Experimentiert wird hierbei u. a. mit Laut- und Gebärdensprache.\nEinlass: Der Bühneneingang befindet sich in der Bertoldstr. 46\, an der Seite des Theaters
URL:https://kulturjoker.de/veranstaltungen/sprechen-6/
LOCATION:Theater Freiburg Werkraum\, Bertoldstraße 46\, Freiburg\, Baden - Württemberg\, 79098\, Germany
CATEGORIES:Theater
ATTACH;FMTTYPE=image/png:https://kulturjoker.de/wp-content/uploads/2026/04/TF_Stueckposter_Sprechen-3.png
ORGANIZER;CN="Theater Freiburg":MAILTO:theaterkasse@theater.freiburg.de
END:VEVENT
BEGIN:VEVENT
DTSTART;TZID=Europe/Berlin:20260514T170000
DTEND;TZID=Europe/Berlin:20260514T180000
DTSTAMP:20260425T185917
CREATED:20260417T141307Z
LAST-MODIFIED:20260417T141307Z
UID:123751-1778778000-1778781600@kulturjoker.de
SUMMARY:Sprechen
DESCRIPTION:Du hast einen Gedanken im Kopf. Er muss unbedingt raus in die Welt. Du holst tief Luft. Und jetzt? Vielleicht bringst du dein Zwerchfell und deinen Kehlkopf in Stellung. Deine Zunge erwacht. Deine Lippen steigen mit ein. Vielleicht bringst du deine Finger ins Spiel\, zeichnest Dinge in die Luft. Du ziehst deine Schultern zu den Ohren. Du hebst deine Arme. Du nickst mit deinem Kopf. Dein Körper fängt an zu sprechen. Du sprichst ganz schnell\, denn du bist aufgeregt. Oder du sprichst ganz langsam. Denn du möchtest\, dass die Welt deine Gedanken ganz genau versteht.\nIn diesem Tanzstück beschäftigen sich professionelle und nicht professionelle Darsteller*innen damit\, wie wir miteinander ins Sprechen kommen – und wer dabei was wie versteht. Experimentiert wird hierbei u. a. mit Laut- und Gebärdensprache.
URL:https://kulturjoker.de/veranstaltungen/sprechen-7/
LOCATION:Theater Freiburg Werkraum\, Bertoldstraße 46\, Freiburg\, Baden - Württemberg\, 79098\, Germany
CATEGORIES:Theater
ATTACH;FMTTYPE=image/png:https://kulturjoker.de/wp-content/uploads/2026/04/TF_Stueckposter_Sprechen-4.png
ORGANIZER;CN="Theater Freiburg":MAILTO:theaterkasse@theater.freiburg.de
END:VEVENT
BEGIN:VEVENT
DTSTART;TZID=Europe/Berlin:20260517T170000
DTEND;TZID=Europe/Berlin:20260517T180000
DTSTAMP:20260425T185917
CREATED:20260417T141308Z
LAST-MODIFIED:20260417T141308Z
UID:123756-1779037200-1779040800@kulturjoker.de
SUMMARY:Sprechen
DESCRIPTION:Du hast einen Gedanken im Kopf. Er muss unbedingt raus in die Welt. Du holst tief Luft. Und jetzt? Vielleicht bringst du dein Zwerchfell und deinen Kehlkopf in Stellung. Deine Zunge erwacht. Deine Lippen steigen mit ein. Vielleicht bringst du deine Finger ins Spiel\, zeichnest Dinge in die Luft. Du ziehst deine Schultern zu den Ohren. Du hebst deine Arme. Du nickst mit deinem Kopf. Dein Körper fängt an zu sprechen. Du sprichst ganz schnell\, denn du bist aufgeregt. Oder du sprichst ganz langsam. Denn du möchtest\, dass die Welt deine Gedanken ganz genau versteht.\nIn diesem Tanzstück beschäftigen sich professionelle und nicht professionelle Darsteller*innen damit\, wie wir miteinander ins Sprechen kommen – und wer dabei was wie versteht. Experimentiert wird hierbei u. a. mit Laut- und Gebärdensprache.
URL:https://kulturjoker.de/veranstaltungen/sprechen-8/
LOCATION:Theater Freiburg Werkraum\, Bertoldstraße 46\, Freiburg\, Baden - Württemberg\, 79098\, Germany
CATEGORIES:Theater
ATTACH;FMTTYPE=image/png:https://kulturjoker.de/wp-content/uploads/2026/04/TF_Stueckposter_Sprechen-5.png
ORGANIZER;CN="Theater Freiburg":MAILTO:theaterkasse@theater.freiburg.de
END:VEVENT
BEGIN:VEVENT
DTSTART;TZID=Europe/Berlin:20260520T190000
DTEND;TZID=Europe/Berlin:20260520T200000
DTSTAMP:20260425T185917
CREATED:20260417T141333Z
LAST-MODIFIED:20260417T141333Z
UID:123761-1779303600-1779307200@kulturjoker.de
SUMMARY:Sprechen
DESCRIPTION:Du hast einen Gedanken im Kopf. Er muss unbedingt raus in die Welt. Du holst tief Luft. Und jetzt? Vielleicht bringst du dein Zwerchfell und deinen Kehlkopf in Stellung. Deine Zunge erwacht. Deine Lippen steigen mit ein. Vielleicht bringst du deine Finger ins Spiel\, zeichnest Dinge in die Luft. Du ziehst deine Schultern zu den Ohren. Du hebst deine Arme. Du nickst mit deinem Kopf. Dein Körper fängt an zu sprechen. Du sprichst ganz schnell\, denn du bist aufgeregt. Oder du sprichst ganz langsam. Denn du möchtest\, dass die Welt deine Gedanken ganz genau versteht.\nIn diesem Tanzstück beschäftigen sich professionelle und nicht professionelle Darsteller*innen damit\, wie wir miteinander ins Sprechen kommen – und wer dabei was wie versteht. Experimentiert wird hierbei u. a. mit Laut- und Gebärdensprache.
URL:https://kulturjoker.de/veranstaltungen/sprechen-9/
LOCATION:Theater Freiburg Werkraum\, Bertoldstraße 46\, Freiburg\, Baden - Württemberg\, 79098\, Germany
CATEGORIES:Theater
ATTACH;FMTTYPE=image/png:https://kulturjoker.de/wp-content/uploads/2026/04/TF_Stueckposter_Sprechen-6.png
ORGANIZER;CN="Theater Freiburg":MAILTO:theaterkasse@theater.freiburg.de
END:VEVENT
BEGIN:VEVENT
DTSTART;TZID=Europe/Berlin:20260521T180000
DTEND;TZID=Europe/Berlin:20260521T190000
DTSTAMP:20260425T185917
CREATED:20260417T141333Z
LAST-MODIFIED:20260417T141333Z
UID:123766-1779386400-1779390000@kulturjoker.de
SUMMARY:Sprechen
DESCRIPTION:Du hast einen Gedanken im Kopf. Er muss unbedingt raus in die Welt. Du holst tief Luft. Und jetzt? Vielleicht bringst du dein Zwerchfell und deinen Kehlkopf in Stellung. Deine Zunge erwacht. Deine Lippen steigen mit ein. Vielleicht bringst du deine Finger ins Spiel\, zeichnest Dinge in die Luft. Du ziehst deine Schultern zu den Ohren. Du hebst deine Arme. Du nickst mit deinem Kopf. Dein Körper fängt an zu sprechen. Du sprichst ganz schnell\, denn du bist aufgeregt. Oder du sprichst ganz langsam. Denn du möchtest\, dass die Welt deine Gedanken ganz genau versteht.\nIn diesem Tanzstück beschäftigen sich professionelle und nicht professionelle Darsteller*innen damit\, wie wir miteinander ins Sprechen kommen – und wer dabei was wie versteht. Experimentiert wird hierbei u. a. mit Laut- und Gebärdensprache.
URL:https://kulturjoker.de/veranstaltungen/sprechen-10/
LOCATION:Theater Freiburg Werkraum\, Bertoldstraße 46\, Freiburg\, Baden - Württemberg\, 79098\, Germany
CATEGORIES:Theater
ATTACH;FMTTYPE=image/png:https://kulturjoker.de/wp-content/uploads/2026/04/TF_Stueckposter_Sprechen-7.png
ORGANIZER;CN="Theater Freiburg":MAILTO:theaterkasse@theater.freiburg.de
END:VEVENT
BEGIN:VEVENT
DTSTART;TZID=Europe/Berlin:20260528T180000
DTEND;TZID=Europe/Berlin:20260528T190000
DTSTAMP:20260425T185917
CREATED:20260417T141356Z
LAST-MODIFIED:20260417T141356Z
UID:123974-1779991200-1779994800@kulturjoker.de
SUMMARY:Öffentliche Probe: Keine wie meine Stadt
DESCRIPTION:In seinem Singspiel Wir bauen eine Stadt von 1930 stellt sich der Komponist Paul Hindemith hoffnungsvoll eine Stadt vor\, in der nur die Kinder das Sagen haben. „Wir bauen eine neue Stadt\, die soll die allerschönste sein“\, lässt er sie singen. Aber hat Hindemith auch die Kinder gefragt? Wie erleben sie die Stadt wirklich? Was wünschen sich Kinder von der Zukunft und wie viel Freiheit haben sie dabei?\n„Paul Hindemith\, er gab was vor\, doch singen wir das heute auch noch so im Chor?“\, fragt der Musiker\, Filmund Theatermacher Anton Spielmann. Gemeinsam mit dem Kinder- und Jugendchor des Theater Freiburg stellt er Hindemiths Singstück auf den Kopf und entwickelt einen Theaterabend\, in dem nur die Sicht der Kinder zählt. Die Kinder schnappen sich Kameras und streifen durch die Stadt. Sie zeigen ihre Orte\, ihre Wege\, ihre Geschichten\, die im Kleinen Haus live auf eine Leinwand übertragen werden. Es entsteht ein vielstimmiges Wimmelbild zwischen Film und Theater\, Wunsch und Wirklichkeit. \nKostenlose Platzkarten gibt es online und an der Theaterkasse
URL:https://kulturjoker.de/veranstaltungen/oeffentliche-probe-keine-wie-meine-stadt/
LOCATION:Theater Freiburg Kleines Haus\, Bertoldstr. 46\, Freiburg\, Baden - Württemberg\, 79098\, Germany
CATEGORIES:Theater
ATTACH;FMTTYPE=image/png:https://kulturjoker.de/wp-content/uploads/2026/04/TF_Stueckposter_Keine_wie_meine_Stadt.png
ORGANIZER;CN="Theater Freiburg":MAILTO:theaterkasse@theater.freiburg.de
END:VEVENT
BEGIN:VEVENT
DTSTART;TZID=Europe/Berlin:20260531T170000
DTEND;TZID=Europe/Berlin:20260531T180000
DTSTAMP:20260425T185917
CREATED:20260417T141521Z
LAST-MODIFIED:20260417T141521Z
UID:123988-1780246800-1780250400@kulturjoker.de
SUMMARY:Peter und der Wolf
DESCRIPTION:Wie groß ist wohl so ein Wolfsrachen\, wenn er weit aufgesperrt ist? Wird es dem Publikum gelingen\, das Seil gaaaanz leise von Hand zu Hand zu reichen\, ohne dass der Wolf was merkt? Und sollen wir den Kontrabassisten mal zusammen erschrecken? Die Musik Sergei Prokofjews steckt voller musikalischer Überraschungen\, die wir in der ersten Konzerthälfte gemeinsam entdecken werden. Im zweiten Teil des Konzertes gibt es zur Musik noch Scherenschnitte obendrauf\, die die Erzählung anschaulich bebildern. \nEin tierisch musikalisches Märchen von Sergei Prokofjew \nMusikalische Leitung: Hiroki Ojika\, Scherenschnitte: Paul Wolff \nMit: Annika Kirschke (Sprecherin und Moderation)\, Philharmonisches Orchester Freiburg
URL:https://kulturjoker.de/veranstaltungen/peter-und-der-wolf/
LOCATION:Theater Freiburg Kleines Haus\, Bertoldstr. 46\, Freiburg\, Baden - Württemberg\, 79098\, Germany
CATEGORIES:Musik
ORGANIZER;CN="Theater Freiburg":MAILTO:theaterkasse@theater.freiburg.de
END:VEVENT
END:VCALENDAR