BEGIN:VCALENDAR
VERSION:2.0
PRODID:-//Kultur Joker - ECPv6.15.20//NONSGML v1.0//EN
CALSCALE:GREGORIAN
METHOD:PUBLISH
X-WR-CALNAME:Kultur Joker
X-ORIGINAL-URL:https://kulturjoker.de
X-WR-CALDESC:Veranstaltungen für Kultur Joker
REFRESH-INTERVAL;VALUE=DURATION:PT1H
X-Robots-Tag:noindex
X-PUBLISHED-TTL:PT1H
BEGIN:VTIMEZONE
TZID:Europe/Berlin
BEGIN:DAYLIGHT
TZOFFSETFROM:+0100
TZOFFSETTO:+0200
TZNAME:CEST
DTSTART:20250330T010000
END:DAYLIGHT
BEGIN:STANDARD
TZOFFSETFROM:+0200
TZOFFSETTO:+0100
TZNAME:CET
DTSTART:20251026T010000
END:STANDARD
BEGIN:DAYLIGHT
TZOFFSETFROM:+0100
TZOFFSETTO:+0200
TZNAME:CEST
DTSTART:20260329T010000
END:DAYLIGHT
BEGIN:STANDARD
TZOFFSETFROM:+0200
TZOFFSETTO:+0100
TZNAME:CET
DTSTART:20261025T010000
END:STANDARD
BEGIN:DAYLIGHT
TZOFFSETFROM:+0100
TZOFFSETTO:+0200
TZNAME:CEST
DTSTART:20270328T010000
END:DAYLIGHT
BEGIN:STANDARD
TZOFFSETFROM:+0200
TZOFFSETTO:+0100
TZNAME:CET
DTSTART:20271031T010000
END:STANDARD
END:VTIMEZONE
BEGIN:VEVENT
DTSTART;TZID=Europe/Berlin:20260425T110000
DTEND;TZID=Europe/Berlin:20260426T160000
DTSTAMP:20260420T045239
CREATED:20260416T111912Z
LAST-MODIFIED:20260416T111912Z
UID:124350-1777114800-1777219200@kulturjoker.de
SUMMARY:Hofbelebung: Living History
DESCRIPTION:Geschichte ist oft ein leises Flüstern\, das uns durch die Gegenstände vermittelt wird\, die uns die Menschen vor uns hinterlassen haben – im Alamannen-Museum wird sie lebendig. Taucht ein in den Alltag der Menschen vor 1600 Jahren und erlebt\, wie hier in der Region Freiburg zur Zeit der Römer gelebt wurde. \nSieh Geschichte in Aktion\, nimm verschiedene Werkzeuge in die Hand und probiere historische Handwerke aus\, rieche das Brot\, das direkt aus dem Holzofen kommt und spüre\, wie das Leben vor 1600 Jahren war. \nEin besonderes Highlight: Römisches Handwerk\, eindrucksvoll präsentiert von der Römergruppe Herculiani Seniores aus dem Elsass. \nPackt euch ein Vesper ein oder genießt unser Angebot an Speisen und Getränken und verbringt einen entspannten Tag auf unserem naturschönen Museumsgelände. \nSamstag 25. April | 11 – 18 Uhr\nSonntag 26. April | 11 – 16 Uhr \nWeitere Infos und Veranstaltungen findet ihr unter:\nwww.alamannen-museum.de
URL:https://kulturjoker.de/veranstaltungen/hofbelebung-living-history/
LOCATION:Alamannen-Museum Vörstetten\, Denzlinger Str. 24 a\, Vörstetten\, Baden-Württemberg\, 79279\, Germany
CATEGORIES:Feste & Hocks
ATTACH;FMTTYPE=image/jpeg:https://kulturjoker.de/wp-content/uploads/2026/04/IMGP2351.jpg
ORGANIZER;CN="Alamannen-Museum V%C3%B6rstetten":MAILTO:info@alamannen-museum.de
END:VEVENT
END:VCALENDAR