BEGIN:VCALENDAR
VERSION:2.0
PRODID:-//Kultur Joker - ECPv6.15.20//NONSGML v1.0//EN
CALSCALE:GREGORIAN
METHOD:PUBLISH
X-WR-CALNAME:Kultur Joker
X-ORIGINAL-URL:https://kulturjoker.de
X-WR-CALDESC:Veranstaltungen für Kultur Joker
REFRESH-INTERVAL;VALUE=DURATION:PT1H
X-Robots-Tag:noindex
X-PUBLISHED-TTL:PT1H
BEGIN:VTIMEZONE
TZID:Europe/Berlin
BEGIN:DAYLIGHT
TZOFFSETFROM:+0100
TZOFFSETTO:+0200
TZNAME:CEST
DTSTART:20250330T010000
END:DAYLIGHT
BEGIN:STANDARD
TZOFFSETFROM:+0200
TZOFFSETTO:+0100
TZNAME:CET
DTSTART:20251026T010000
END:STANDARD
BEGIN:DAYLIGHT
TZOFFSETFROM:+0100
TZOFFSETTO:+0200
TZNAME:CEST
DTSTART:20260329T010000
END:DAYLIGHT
BEGIN:STANDARD
TZOFFSETFROM:+0200
TZOFFSETTO:+0100
TZNAME:CET
DTSTART:20261025T010000
END:STANDARD
BEGIN:DAYLIGHT
TZOFFSETFROM:+0100
TZOFFSETTO:+0200
TZNAME:CEST
DTSTART:20270328T010000
END:DAYLIGHT
BEGIN:STANDARD
TZOFFSETFROM:+0200
TZOFFSETTO:+0100
TZNAME:CET
DTSTART:20271031T010000
END:STANDARD
END:VTIMEZONE
BEGIN:VEVENT
DTSTART;TZID=Europe/Berlin:20260517T150000
DTEND;TZID=Europe/Berlin:20260517T160000
DTSTAMP:20260422T033336
CREATED:20260417T141308Z
LAST-MODIFIED:20260417T141308Z
UID:124364-1779030000-1779033600@kulturjoker.de
SUMMARY:Zweisprachiges Erzählen - Deutsch/Französisch
DESCRIPTION:📆 17.Mai 2026\n⏰ 15:00 Uhr\n💵 Erwachsene10 €\, Kinder 5 €\n🎟 Reservierung unter mail@haus37.de \nIm Rahmen des Jungen Programms bieten wir ab Mai\ndas neue Format Bilingual – zweisprachiges Erzählen\nan:\nGemeinsam mit dem Theater R.A.B. laden wir zweisprachige Familien und Kinder ab fünf Jahre zu Erzählnachmittagen ein. Die Künstlerinnen beziehen dabei die Familien ein und geben den Kindern die Möglichkeit\, auf malerische und künstlerische Art ganz persönlich auf das Gehörte uns Gesehene zu reagieren. \nDie Reihe startet am 17. Mai mit zwei Geschichten der First Nations aus Kanada über das Verhältnis von Mensch und Natur. Erzählt wird auf deutsch und französisch von Franziska Braegger und Lou Poirier. \nAm 12. Juli folgt auf Arabisch und Deutsch “Die kleine Laterne”\, ebenfalls vorgetragen von Franziska Braegger und Ola Omen. \nWir freuen uns auf euch! 😇 \n———————————————————————- \nContes bilingues (allemand et français) \n📆 17 mai 2026\n⏰ 15:00 h\n💵 Adultes : 10 €\, Enfants : 5 €\n🎟 Réservations : mail@haus37.de \nDans le cadre de notre programme jeunesse\, nous proposons une nouvelle formule à partir de mai : des contes bilingues.\nEn collaboration avec le Theater R.A.B. \,nous invitons les familles bilingues et les enfants à partir de 5 ans à des séances de contes l’après-midi. Les artistes impliqueront les familles et donneront aux enfants l’occasion de réagir à ce qu’ils entendent et voient de manière personnelle\, artistique et expressive. \nLa série débute le 17 mai avec deux contes des Premières Nations du Canada sur la relation entre l’humain et la nature. Ces contes seront racontés en allemand et en français par Franziska Braegger et Lou Poirier. \nLe 12 juillet\, « La Petite Lanterne » sera jouée en arabe et en allemand\, également par Franziska Braegger et Ola Omen. \nNous avons hâte de vous y voir ! 😇
URL:https://kulturjoker.de/veranstaltungen/zweisprachiges-erzaehlen-deutsch-franzoesisch/
LOCATION:Stadtteilzentrum Vauban 037 e.V.\, Alfred-Döblin-Platz 1\, Freiburg\, Baden-Württemberg\, 79100\, Germany
CATEGORIES:Kids,Literatur,Vorträge & Gespräche
ATTACH;FMTTYPE=image/png:https://kulturjoker.de/wp-content/uploads/2026/04/image1.png
ORGANIZER;CN="Stadtteilzentrum Vauban 037 e.V.":MAILTO:mail@haus37.de
END:VEVENT
END:VCALENDAR