BEGIN:VCALENDAR
VERSION:2.0
PRODID:-//Kultur Joker - ECPv6.15.20//NONSGML v1.0//EN
CALSCALE:GREGORIAN
METHOD:PUBLISH
X-ORIGINAL-URL:https://kulturjoker.de
X-WR-CALDESC:Veranstaltungen für Kultur Joker
REFRESH-INTERVAL;VALUE=DURATION:PT1H
X-Robots-Tag:noindex
X-PUBLISHED-TTL:PT1H
BEGIN:VTIMEZONE
TZID:Europe/Berlin
BEGIN:DAYLIGHT
TZOFFSETFROM:+0100
TZOFFSETTO:+0200
TZNAME:CEST
DTSTART:20250330T010000
END:DAYLIGHT
BEGIN:STANDARD
TZOFFSETFROM:+0200
TZOFFSETTO:+0100
TZNAME:CET
DTSTART:20251026T010000
END:STANDARD
BEGIN:DAYLIGHT
TZOFFSETFROM:+0100
TZOFFSETTO:+0200
TZNAME:CEST
DTSTART:20260329T010000
END:DAYLIGHT
BEGIN:STANDARD
TZOFFSETFROM:+0200
TZOFFSETTO:+0100
TZNAME:CET
DTSTART:20261025T010000
END:STANDARD
BEGIN:DAYLIGHT
TZOFFSETFROM:+0100
TZOFFSETTO:+0200
TZNAME:CEST
DTSTART:20270328T010000
END:DAYLIGHT
BEGIN:STANDARD
TZOFFSETFROM:+0200
TZOFFSETTO:+0100
TZNAME:CET
DTSTART:20271031T010000
END:STANDARD
END:VTIMEZONE
BEGIN:VEVENT
DTSTART;TZID=Europe/Berlin:20260506T080000
DTEND;TZID=Europe/Berlin:20260506T170000
DTSTAMP:20260421T153541
CREATED:20260115T150647Z
LAST-MODIFIED:20260115T150647Z
UID:60538-1778054400-1778086800@kulturjoker.de
SUMMARY:RISING | A-capella-Ensemble Lyyra aus den USA
DESCRIPTION:“Rising” zelebriert das gesamte Klangspektrum und Repertoire\, das mit hohen Stimmen möglich ist. Von Alter Musik über Jazz bis hin zu Pop stellt es insbesondere das erste Album der Gruppe in den Vordergrund\, das bei Warner Classics veröffentlicht wird.
URL:https://kulturjoker.de/veranstaltungen/rising-a-capella-ensemble-lyyra-aus-den-usa-2/
LOCATION:Humboldtsaal Freiburg\, Humboldtstraße 2\, Freiburg im Breisgau\, 79098\, Germany
CATEGORIES:Musik
ATTACH;FMTTYPE=image/jpeg:https://kulturjoker.de/wp-content/uploads/2026/01/lyyra1-credit_-matthew-johnson-ca8_1500x1000.jpg
ORGANIZER;CN="Kultur %C3%BCber den D%C3%A4chern":MAILTO:kultur@humboldtsaal.de
END:VEVENT
BEGIN:VEVENT
DTSTART;TZID=Europe/Berlin:20260506T080000
DTEND;TZID=Europe/Berlin:20260506T170000
DTSTAMP:20260421T153541
CREATED:20260115T150647Z
LAST-MODIFIED:20260115T150647Z
UID:60534-1778054400-1778086800@kulturjoker.de
SUMMARY:RISING | A-capella-Ensemble Lyyra aus den USA
DESCRIPTION:“Rising” zelebriert das gesamte Klangspektrum und Repertoire\, das mit hohen Stimmen möglich ist. Von Alter Musik über Jazz bis hin zu Pop stellt es insbesondere das erste Album der Gruppe in den Vordergrund\, das bei Warner Classics veröffentlicht wird.
URL:https://kulturjoker.de/veranstaltungen/rising-a-capella-ensemble-lyyra-aus-den-usa/
LOCATION:Humboldtsaal Freiburg\, Humboldtstraße 2\, Freiburg im Breisgau\, 79098\, Germany
CATEGORIES:Musik
ORGANIZER;CN="Kultur %C3%BCber den D%C3%A4chern":MAILTO:kultur@humboldtsaal.de
END:VEVENT
BEGIN:VEVENT
DTSTART;TZID=Europe/Berlin:20260517T190000
DTEND;TZID=Europe/Berlin:20260517T203000
DTSTAMP:20260421T153541
CREATED:20260417T141332Z
LAST-MODIFIED:20260417T141332Z
UID:122830-1779044400-1779049800@kulturjoker.de
SUMMARY:Chorkonzert „The Ecstasies Above – Musik zwischen Himmel und Erde“
DESCRIPTION:Wir erschaffen Klangräume – mitten in Freiburg: Das John Sheppard Ensemble verwandelt mit diesem Konzert die Herz-Jesu-Kirche in einen lebendigen Resonanzraum. Stimmen und Streicher erklingen aus verschiedenen Richtungen\, Musik entfaltet sich in Raum und Zeit. Wir laden Sie herzlich dazu ein\, Teil dieses immersiven Klangerlebnisses zu werden. \nIm Zentrum des Programms steht „The Ecstasies Above“ von Tarik O’Regan (2006) für Doppelchor\, Solist*innen und Streichorchester – eine Musik von leuchtender Intensität\, spiritueller Tiefe und fein ornamentaler Struktur. Ergänzt wird das Konzert durch britische Werke von der Renaissance bis in die Gegenwart\, darunter Thomas Tallis’ Motette „Spem in alium“ für 40 Stimmen\, die den Raumklang in eindrucksvoller architektonischer Klarheit realisiert und in seiner Vielstimmigkeit erfahrbar macht.
URL:https://kulturjoker.de/veranstaltungen/chorkonzert-the-ecstasies-above-musik-zwischen-himmel-und-erde/
LOCATION:Herz-Jesu-Kirche\, Amalie-Gramm-Weg 1\, Freiburg im Breisgau\, 79106\, Germany
CATEGORIES:Musik
ATTACH;FMTTYPE=image/png:https://kulturjoker.de/wp-content/uploads/2026/03/Flyer-Vorderseite-ganz.png
END:VEVENT
BEGIN:VEVENT
DTSTART;TZID=Europe/Berlin:20260518T193000
DTEND;TZID=Europe/Berlin:20260518T210000
DTSTAMP:20260421T153541
CREATED:20260417T141332Z
LAST-MODIFIED:20260417T141332Z
UID:122835-1779132600-1779138000@kulturjoker.de
SUMMARY:Chorkonzert „The Ecstasies Above – Musik zwischen Himmel und Erde“
DESCRIPTION:Wir erschaffen Klangräume – mitten in Freiburg: Das John Sheppard Ensemble verwandelt mit diesem Konzert die Herz-Jesu-Kirche in einen lebendigen Resonanzraum. Stimmen und Streicher erklingen aus verschiedenen Richtungen\, Musik entfaltet sich in Raum und Zeit. Wir laden Sie herzlich dazu ein\, Teil dieses immersiven Klangerlebnisses zu werden. \nIm Zentrum des Programms steht „The Ecstasies Above“ von Tarik O’Regan (2006) für Doppelchor\, Solist*innen und Streichorchester – eine Musik von leuchtender Intensität\, spiritueller Tiefe und fein ornamentaler Struktur. Ergänzt wird das Konzert durch britische Werke von der Renaissance bis in die Gegenwart\, darunter Thomas Tallis’ Motette „Spem in alium“ für 40 Stimmen\, die den Raumklang in eindrucksvoller architektonischer Klarheit realisiert und in seiner Vielstimmigkeit erfahrbar macht. \nDie Tickets finden Sie auf Reservix unter https://sheppardensemble.reservix.de/events.
URL:https://kulturjoker.de/veranstaltungen/chorkonzert-the-ecstasies-above-musik-zwischen-himmel-und-erde-2/
LOCATION:Herz-Jesu-Kirche\, Amalie-Gramm-Weg 1\, Freiburg im Breisgau\, 79106\, Germany
CATEGORIES:Musik
ATTACH;FMTTYPE=image/png:https://kulturjoker.de/wp-content/uploads/2026/03/Flyer-Vorderseite-ganz-1.png
END:VEVENT
END:VCALENDAR