BEGIN:VCALENDAR
VERSION:2.0
PRODID:-//Kultur Joker - ECPv6.15.20//NONSGML v1.0//EN
CALSCALE:GREGORIAN
METHOD:PUBLISH
X-WR-CALNAME:Kultur Joker
X-ORIGINAL-URL:https://kulturjoker.de
X-WR-CALDESC:Veranstaltungen für Kultur Joker
REFRESH-INTERVAL;VALUE=DURATION:PT1H
X-Robots-Tag:noindex
X-PUBLISHED-TTL:PT1H
BEGIN:VTIMEZONE
TZID:Europe/Berlin
BEGIN:DAYLIGHT
TZOFFSETFROM:+0100
TZOFFSETTO:+0200
TZNAME:CEST
DTSTART:20250330T010000
END:DAYLIGHT
BEGIN:STANDARD
TZOFFSETFROM:+0200
TZOFFSETTO:+0100
TZNAME:CET
DTSTART:20251026T010000
END:STANDARD
BEGIN:DAYLIGHT
TZOFFSETFROM:+0100
TZOFFSETTO:+0200
TZNAME:CEST
DTSTART:20260329T010000
END:DAYLIGHT
BEGIN:STANDARD
TZOFFSETFROM:+0200
TZOFFSETTO:+0100
TZNAME:CET
DTSTART:20261025T010000
END:STANDARD
BEGIN:DAYLIGHT
TZOFFSETFROM:+0100
TZOFFSETTO:+0200
TZNAME:CEST
DTSTART:20270328T010000
END:DAYLIGHT
BEGIN:STANDARD
TZOFFSETFROM:+0200
TZOFFSETTO:+0100
TZNAME:CET
DTSTART:20271031T010000
END:STANDARD
END:VTIMEZONE
BEGIN:VEVENT
DTSTART;TZID=Europe/Berlin:20261005T190000
DTEND;TZID=Europe/Berlin:20261005T210000
DTSTAMP:20260425T145415
CREATED:20260417T141601Z
LAST-MODIFIED:20260417T141601Z
UID:122489-1791226800-1791234000@kulturjoker.de
SUMMARY:Jubiläumskonzert: Mendelssohn "Walpurgisnacht" - "Lobgesang"
DESCRIPTION:In 2026 feiert der Freiburger Oratorienchor sein 50jähriges Jubiläum mit zwei großen Konzerten. Das erste findet im Konzerthaus mit einem Programm statt\, dass man vielleicht unter dem Aspekt der Toleranz\, des Achtens gegensätzlicher Ansichten und der Sehnsucht nach Freiheit betrachten könnte.  \nJohann Wolfgang von Goethe nannte sein Gedicht Die erste Walpurgisnacht eine „dramatische Ballade“. Sie stellt einen reinen\, aus der Erkenntnis der Natur entstandenen Monotheismus den andersgläubigen Sitten der frühen europäischen Kirche gegenüber. Der zentrale Gedanke ist die unreflektierte Intoleranz einer sich selbst absolut setzenden Institution gegenüber einer Minderheit so wie die unausgesprochene Forderung nach Toleranz für Andersdenkende bzw. Abergläubige. Felix Mendelssohn\, ein enger Freund Goethes\, setzte dieses Gedicht in Töne und schrieb nach der Vollendung der ersten Fassung an seine Schwester Fanny: „Nun hat sich das Ding gestaltet\, ist aber eine große Cantate mit großem Orchester geworden…“ Diese Komposition gehört anerkanntermaßen zu den besten Werken der weltlichen Vokalmusik des 19. Jahrhunderts.  \n1840 war der Anlass für die Komposition der Sinfonie Nr 2 in B-Dur\, die gleichermaßen unter dem Namen Lobgesang bekannt ist\, das 400jährige Jubiläum der Erfindung des Buchdrucks durch Johannes Gutenberg. Mendelssohn sah in der Buchdruckerei den Sieg des menschlichen Geistes über die Finsternis. Der Freiburger Oratorienchor nimmt diese „Jubiläumskomposition“ als zentrales Hauptwerk seines Jubiläumskonzertes.\nNeben Johanna Allevato\, Sopran\, Julia Werner\, Alt\, Philipp Nicklaus\, Tenor und Hanno Müller-Brachmann\, Bass musiziert die Bodensee Philharmonie. Die Leitung hat Bernhard Gärtner. \nKarten im Vorverkauf bei BZ-Kartenservice und bei Reservix
URL:https://kulturjoker.de/veranstaltungen/jubilaeumskonzert-mendelssohn-walpurgisnacht-lobgesang/
LOCATION:Konzerthaus Freiburg\, Konrad-Adenauer-Platz 1\, Freiburg\, 79098
CATEGORIES:Musik
ATTACH;FMTTYPE=image/jpeg:https://kulturjoker.de/wp-content/uploads/2026/03/2025-09-20-Freiburger-Oratorienchor-Tobias-Ohnewald-scaled.jpg
ORGANIZER;CN="Freiburger Oratorienchor":MAILTO:info@freiburgeroratorienchor.clubdesk.com
END:VEVENT
END:VCALENDAR