BEGIN:VCALENDAR
VERSION:2.0
PRODID:-//Kultur Joker - ECPv6.15.20//NONSGML v1.0//EN
CALSCALE:GREGORIAN
METHOD:PUBLISH
X-WR-CALNAME:Kultur Joker
X-ORIGINAL-URL:https://kulturjoker.de
X-WR-CALDESC:Veranstaltungen für Kultur Joker
REFRESH-INTERVAL;VALUE=DURATION:PT1H
X-Robots-Tag:noindex
X-PUBLISHED-TTL:PT1H
BEGIN:VTIMEZONE
TZID:Europe/Berlin
BEGIN:DAYLIGHT
TZOFFSETFROM:+0100
TZOFFSETTO:+0200
TZNAME:CEST
DTSTART:20250330T010000
END:DAYLIGHT
BEGIN:STANDARD
TZOFFSETFROM:+0200
TZOFFSETTO:+0100
TZNAME:CET
DTSTART:20251026T010000
END:STANDARD
BEGIN:DAYLIGHT
TZOFFSETFROM:+0100
TZOFFSETTO:+0200
TZNAME:CEST
DTSTART:20260329T010000
END:DAYLIGHT
BEGIN:STANDARD
TZOFFSETFROM:+0200
TZOFFSETTO:+0100
TZNAME:CET
DTSTART:20261025T010000
END:STANDARD
BEGIN:DAYLIGHT
TZOFFSETFROM:+0100
TZOFFSETTO:+0200
TZNAME:CEST
DTSTART:20270328T010000
END:DAYLIGHT
BEGIN:STANDARD
TZOFFSETFROM:+0200
TZOFFSETTO:+0100
TZNAME:CET
DTSTART:20271031T010000
END:STANDARD
END:VTIMEZONE
BEGIN:VEVENT
DTSTART;VALUE=DATE:20260425
DTEND;VALUE=DATE:20260524
DTSTAMP:20260425T013242
CREATED:20260316T123837Z
LAST-MODIFIED:20260316T123837Z
UID:122171-1777075200-1779580799@kulturjoker.de
SUMMARY:Großer Setzlingsmarkt
DESCRIPTION:Riesige Auswahl an selbst gezogene Jungpflanzen – alles\, was das Herz begehrt für Garten und Balkon.\nAls Gemüsegärtnerei bieten wir eine große Sortenvielfalt an: 34 verschiedene Tomatensorten\, Chili-Pflänzchen jeder Schärfe und sämtliches Kochgemüse\, von Auberginen bis Zucchini. Außerdem eine breite Auswahl an Kräutern und Blumen.\nMontag bis Freitag von 8 – 18 Uhr. Samstag von 9 – 13 Uhr.
URL:https://kulturjoker.de/veranstaltungen/grosser-setzlingsmarkt/
LOCATION:Demeter-Gärtnerei Piluweri\, Am Stockacker 1\, Hügelheim\, Baden-Württemberg\, 79379\, Germany
CATEGORIES:Markt
ATTACH;FMTTYPE=image/jpeg:https://kulturjoker.de/wp-content/uploads/2026/03/Setzlingsmarkt.jpg
ORGANIZER;CN="Demeter-G%C3%A4rtnerei Piluweri":MAILTO:info@piluweri.de
END:VEVENT
BEGIN:VEVENT
DTSTART;TZID=Europe/Berlin:20260425T100000
DTEND;TZID=Europe/Berlin:20260425T130000
DTSTAMP:20260425T013242
CREATED:20260417T141236Z
LAST-MODIFIED:20260417T141236Z
UID:124256-1777111200-1777122000@kulturjoker.de
SUMMARY:Tag der offenen Tür im Waldorfkindergarten Wiehre | 25. April 2026\, 10-13 Uhr
DESCRIPTION:Der Waldorfkindergarten Wiehre lädt alle interessierten Familien zu einem Tag der offenen Tür am Samstag\, den 25. April 2026 von 10:00 bis 13:00 Uhr ein. \nBesucherinnen und Besucher erhalten einen Einblick in die liebevoll gestalteten Gruppenräume\, den weitläufigen Garten und das pädagogische Konzept unseres Waldorfkindergartens.\nDas Team stellt den Tagesablauf vor\, erklärt die Bildungsangebote und beantwortet alle Fragen rund um Anmeldung\, Betreuung und kreative Förderung der Kinder. \nNeben einer Führung durch den Kindergarten gibt es Gelegenheit mit Erzieherinnen\, Eltern und Kindern ins Gespräch zu kommen.\nKleine Mitmach-Aktionen und künstlerische Angebote vermitteln einen lebendigen Eindruck vom Alltag im Kindergarten. \nOrt: Waldorfkindergarten Wiehre e.V.\, Basler Str. 52\, 79100 Freiburg\nDatum & Uhrzeit: Samstag\, 25. April 2026\, 10:00 bis 13:00 Uhr\nKontakt: info@waldorfkindergarten-wiehre.de; Webseite: www.waldorfkindergarten-wiehre.de
URL:https://kulturjoker.de/veranstaltungen/tag-der-offenen-tuer-im-waldorfkindergarten-wiehre-25-april-2026-10-13-uhr/
LOCATION:Waldorfkindergarten Wiehre e.V.\, Basler Str. 52\, Freiburg\, 79100\, Germany
CATEGORIES:Allgemein
ATTACH;FMTTYPE=image/jpeg:https://kulturjoker.de/wp-content/uploads/2026/04/Sommer-Waldorfkindergarten-Wiehre-bearbeitet-verkleinert.jpg
ORGANIZER;CN="Waldorfkindergarten Wiehre e.V.":MAILTO:info@waldorfkindergarten-wiehre.de
END:VEVENT
BEGIN:VEVENT
DTSTART;TZID=Europe/Berlin:20260425T110000
DTEND;TZID=Europe/Berlin:20260426T160000
DTSTAMP:20260425T013242
CREATED:20260416T111912Z
LAST-MODIFIED:20260416T111912Z
UID:124350-1777114800-1777219200@kulturjoker.de
SUMMARY:Hofbelebung: Living History
DESCRIPTION:Geschichte ist oft ein leises Flüstern\, das uns durch die Gegenstände vermittelt wird\, die uns die Menschen vor uns hinterlassen haben – im Alamannen-Museum wird sie lebendig. Taucht ein in den Alltag der Menschen vor 1600 Jahren und erlebt\, wie hier in der Region Freiburg zur Zeit der Römer gelebt wurde. \nSieh Geschichte in Aktion\, nimm verschiedene Werkzeuge in die Hand und probiere historische Handwerke aus\, rieche das Brot\, das direkt aus dem Holzofen kommt und spüre\, wie das Leben vor 1600 Jahren war. \nEin besonderes Highlight: Römisches Handwerk\, eindrucksvoll präsentiert von der Römergruppe Herculiani Seniores aus dem Elsass. \nPackt euch ein Vesper ein oder genießt unser Angebot an Speisen und Getränken und verbringt einen entspannten Tag auf unserem naturschönen Museumsgelände. \nSamstag 25. April | 11 – 18 Uhr\nSonntag 26. April | 11 – 16 Uhr \nWeitere Infos und Veranstaltungen findet ihr unter:\nwww.alamannen-museum.de
URL:https://kulturjoker.de/veranstaltungen/hofbelebung-living-history/
LOCATION:Alamannen-Museum Vörstetten\, Denzlinger Str. 24 a\, Vörstetten\, Baden-Württemberg\, 79279\, Germany
CATEGORIES:Feste & Hocks
ATTACH;FMTTYPE=image/jpeg:https://kulturjoker.de/wp-content/uploads/2026/04/IMGP2351.jpg
ORGANIZER;CN="Alamannen-Museum V%C3%B6rstetten":MAILTO:info@alamannen-museum.de
END:VEVENT
BEGIN:VEVENT
DTSTART;TZID=Europe/Berlin:20260425T150000
DTEND;TZID=Europe/Berlin:20260425T173000
DTSTAMP:20260425T013242
CREATED:20260413T104807Z
LAST-MODIFIED:20260413T104807Z
UID:123622-1777129200-1777138200@kulturjoker.de
SUMMARY:It’s a match – Finde deinen Art Buddy
DESCRIPTION:10 Teilnehmende. 10 Werke. 10 Begegnungen. \nIhr geht gerne in Ausstellungen\, euch fehlt aber jemand\, um sich darüber auszutauschen? Oder ihr habt einfach mal wieder Lust\, neue Leute kennenzulernen? – In beiden Fällen seid ihr bei unserem beliebten Format „It’s a match – Finde deinen Art Buddy“ genau richtig. \nHabt Freude beim Austausch mit den unterschiedlichsten Menschen und beim Kennenlernen anderer Perspektiven – auf die Kunst\, aber auch den Alltag. Im Laufe von „It’s a match“ lernt Ihr an jedem Kunstwerk eine neue Person kennen und könnt mithilfe interessanter Fragen\, die von den Kunstwerken inspiriert sind\, ins Gespräch kommen. \nWer weiß\, vielleicht findet sich bei einem anschließenden Drink und Austausch sogar euer neuer Art Buddy?
URL:https://kulturjoker.de/veranstaltungen/its-a-match-finde-deinen-art-buddy-5/
LOCATION:ZKM | Zentrum für Kunst und Medien Karlsruhe\, Lorenzstraße 19\, Karlsruhe\, 76135\, Germany
ATTACH;FMTTYPE=image/jpeg:https://kulturjoker.de/wp-content/uploads/2026/04/art-up-your-life-webbanner-template_0000s_0001_Badge-Kopie-8-2.jpg
END:VEVENT
BEGIN:VEVENT
DTSTART;TZID=Europe/Berlin:20260425T170000
DTEND;TZID=Europe/Berlin:20260425T183000
DTSTAMP:20260425T013242
CREATED:20260316T123837Z
LAST-MODIFIED:20260316T123837Z
UID:121483-1777136400-1777141800@kulturjoker.de
SUMMARY:Freiburger Martinschor: Familienkonzert zum Oratorium „Paulus“
DESCRIPTION:„Vom Saulus zum Paulus“ – wie wird man vom Verfolger der Christen zum Anhänger Jesu? Diese spannende Geschichte erzählt das Oratorium „Paulus“ von Felix Mendelssohn-Bartholdy.\nMendelssohn war beeindruckt von den Werken von Johann Sebastian Bach\, der darin Geschichten aus dem Leben Jesu vertont hatte. Bachs Kompositionen wurden zu Mendelssohns Zeiten gerade wiederentdeckt\, nachdem sie fast in Vergessenheit geraten waren. In seinen eigenen Werken erzählte Mendelssohn deshalb auf seine Weise Geschichten aus der Bibel.\nDer „Paulus“ war zu seiner Zeit bereits ein sehr beliebtes Stück\, auch heute beeindruckt er durch seine großartigen Melodien und seinen musikalischen Einfallsreichtum.\nDie  Konzertpädagogin Britta Riedmiller hat das Werk bearbeitet\, um es auch jungen Menschen (ab 5 Jahren) nahezubringen. Der Freiburger Martinschor führt es als Familienkonzert in der Martinskirche am Rathausplatz auf.\nDas Konzert wird ermöglicht durch freundliche Förderung durch die Erzbischof Hermann Stiftung und die LBBW. \nSa.\, 25.04.2026\, 17:00 Uhr\, Freiburg\, Martinskirche am Rathausplatz \nEs singt der Freiburger Martinschor mit Orchester unter der Leitung von Susanne Falk.  \nSolist ist Ekkehard Abele\, Bass.
URL:https://kulturjoker.de/veranstaltungen/freiburger-martinschor-familienkonzert-zum-oratorium-paulus/
LOCATION:Kirche St. Martin Freiburg\, Rathausplatz\, Freiburg\, 79098\, Germany
CATEGORIES:Musik
ATTACH;FMTTYPE=image/jpeg:https://kulturjoker.de/wp-content/uploads/2026/03/Freiburger_Martinschor.jpg
ORGANIZER;CN="Freiburger Martinschor":MAILTO:martinschor@kath-freiburg-mitte.de
END:VEVENT
BEGIN:VEVENT
DTSTART;TZID=Europe/Berlin:20260425T180000
DTEND;TZID=Europe/Berlin:20260425T190000
DTSTAMP:20260425T013242
CREATED:20260316T123837Z
LAST-MODIFIED:20260316T123837Z
UID:121777-1777140000-1777143600@kulturjoker.de
SUMMARY:Sprechen
DESCRIPTION:Du hast einen Gedanken im Kopf. Er muss unbedingt raus in die Welt. Du holst tief Luft. Und jetzt? Vielleicht bringst du dein Zwerchfell und deinen Kehlkopf in Stellung. Deine Zunge erwacht. Deine Lippen steigen mit ein. Vielleicht bringst du deine Finger ins Spiel\, zeichnest Dinge in die Luft. Du ziehst deine Schultern zu den Ohren. Du hebst deine Arme. Du nickst mit deinem Kopf. Dein Körper fängt an zu sprechen. Du sprichst ganz schnell\, denn du bist aufgeregt. Oder du sprichst ganz langsam. Denn du möchtest\, dass die Welt deine Gedanken ganz genau versteht.\nIn diesem Tanzstück beschäftigen sich professionelle und nicht professionelle Darsteller*innen damit\, wie wir miteinander ins Sprechen kommen – und wer dabei was wie versteht. Experimentiert wird hierbei u. a. mit der deutschen Laut- und der deutschen Gebärdensprache. \nTanzstück von Birgit Freitag und Ensemble. Einlass über den Bühneneingang in der Bertoldstraße 46
URL:https://kulturjoker.de/veranstaltungen/sprechen/
LOCATION:Theater Freiburg Werkraum\, Bertoldstraße 46\, Freiburg\, Baden - Württemberg\, 79098\, Germany
CATEGORIES:Theater
ATTACH;FMTTYPE=image/png:https://kulturjoker.de/wp-content/uploads/2026/03/TF_Stueckposter_Sprechen.png
ORGANIZER;CN="Theater Freiburg":MAILTO:theaterkasse@theater.freiburg.de
END:VEVENT
BEGIN:VEVENT
DTSTART;TZID=Europe/Berlin:20260425T190000
DTEND;TZID=Europe/Berlin:20260425T203000
DTSTAMP:20260425T013242
CREATED:20260120T102835Z
LAST-MODIFIED:20260120T102835Z
UID:61158-1777143600-1777149000@kulturjoker.de
SUMMARY:Jeffrey Bernard ist unpässlich
DESCRIPTION:Originaltitel: Jeffrey Bernard is unwell (von Keith Waterhouse)\nDas Stück handelt von dem berühmt-berüchtigten Sportkolumnisten Jeffrey Bernard. Bernard war fast sein ganzes Leben lang ein schwerer Alkoholiker\, ein Frauenheld und nach eigener Aussage ein schrecklicher Ehemann für jede seiner vier Frauen. Aber er war wohl auch extrem witzig. Als er in den Sechzigern in Soho herumhing\, umgeben von Bohemiens und Old Boys\, und bis in die frühen Morgenstunden trank\, lernte Bernard zweifellos einige erstaunliche Menschen kennen und hatte großartige Geschichten zu erzählen.\nSein Freund Keith Waterhouse schrieb ein Stück über ihn\, das Bernard im Alter von 57 Jahren zu einer Kultfigur machte.\nDer Inhalt des Stücks ist schnell erzählt: Bernard wird versehentlich über Nacht in seiner Stammkneipe (The Coach & Horses\, Soho) eingeschlossen. Am Tresen sitzend beginnt er\, seine Autobiografie anhand einer Nacht voller amüsanter Anekdoten zu erzählen. Nun suchen ihn die Geister seiner Freunde und Feinde – der toten wie der lebendigen – heim und veranlassen ihn zu witzigen\, boshaften und manchmal auch weisen Kommentaren. \nRegie: Ulrike Trescher\nEs spielt: Werner Konz \nEintritt: 17 € / erm. 15 €\nKartenvorverkauf: Buchhandlung Augustiniok\, Waldkirch\nKartenreservierung: info@freies-theater-waldkirch.de
URL:https://kulturjoker.de/veranstaltungen/jeffrey-bernard-ist-unpaesslich-2/
LOCATION:Theater am Kastelberg\, Bergstraße 8\, Waldkirch\, 79183\, Deutschland
ATTACH;FMTTYPE=image/jpeg:https://kulturjoker.de/wp-content/uploads/2026/01/2026_Jeffrey-ist-unpaesslich_Foto-Ulrike-Trescher-2.jpg
ORGANIZER;CN="Freies Theater Waldkirch e.V.":MAILTO:info@freies-theater-waldkirch.de
END:VEVENT
BEGIN:VEVENT
DTSTART;TZID=Europe/Berlin:20260425T193000
DTEND;TZID=Europe/Berlin:20260425T203000
DTSTAMP:20260425T013242
CREATED:20260316T123837Z
LAST-MODIFIED:20260316T123837Z
UID:121782-1777145400-1777149000@kulturjoker.de
SUMMARY:Tanzgastspiel: Focus
DESCRIPTION:In Focus bringt der Choreograf Étienne Rochefort fünf junge Streetdancer aus Straßburg mit zwei Mitgliedern seiner Tanzcompany 1 des Si zusammen. Zu mitreißenden Beats treten sie tänzerisch gegeneinander an\, finden sich immer wieder in großen Gruppenformationen zusammen. Gemeinsam zeigen sie\, wie unterschiedlich Urban Dance sein kann – von Hip-Hop über Krump bis Breakdance\, von House über Popping bis Voguing ist hier alles dabei. Urban Dance steht dabei für so viel mehr als nur für den Tanz. Er ist Ausdruck von Vielfalt\, Freiheit und grenzenloser Kreativität. So unterschiedlich wie die Stile des Urban Dance sind dabei die Geschichten der Tänzer*innen. Über die Bewegung erzählen sie von ihren ganz persönlichen Wegen\, Entdeckungen und Kämpfen. Sie nutzen den Tanz\, um Fragen zu Identität\, Kultur und Gemeinschaft zu stellen. In Focus wird die Bühne zu einer großen Hip-Hop-Party für Publikum und Tänzer*innen.\nTanz-Performance von Étienne Rochefort. Einführung 30 Minuten vor Vorstellungsbeginn. Im Anschluss Artist Talk und Krach & Wonne.. Eine Produktion von Cie 1 des Si und POLE-SUD Strasbourg.
URL:https://kulturjoker.de/veranstaltungen/tanzgastspiel-focus/
LOCATION:Theater Freiburg Großes Haus\, Bertoldstr. 46\, Freiburg\, Baden - Württemberg\, 79098\, Germany
CATEGORIES:Tanz
ATTACH;FMTTYPE=image/jpeg:https://kulturjoker.de/wp-content/uploads/2026/03/P1199050-scaled.jpg
ORGANIZER;CN="Theater Freiburg":MAILTO:theaterkasse@theater.freiburg.de
END:VEVENT
BEGIN:VEVENT
DTSTART;TZID=Europe/Berlin:20260425T193000
DTEND;TZID=Europe/Berlin:20260425T213000
DTSTAMP:20260425T013242
CREATED:20260416T111916Z
LAST-MODIFIED:20260416T111916Z
UID:124371-1777145400-1777152600@kulturjoker.de
SUMMARY:Stephan Bormann - Traveler on Guitar
DESCRIPTION:Stephan Bormann zählt zu den vielseitigsten deutschen Gitarristen. Über zwei Jahrzehnte war er international mit Formationen wie dem Cristin Claas Trio\, dem Songland Trio\, Hands On Strings oder dem 10String Orchestra unterwegs.\nMit seinem aktuellen Programm präsentiert er Musik aus seinem Soloalbum „Spaces“ – eine klangvolle Reise über viele Saiten und Kulturen. Seine Stücke verbinden Einflüsse aus verschiedenen musikalischen Welten und enthalten Hommagen an große Vorbilder wie Pat Metheny und Sting.\nEin atmosphärischer Gitarrenabend voller Groove\, Emotion und musikalischer Geschichten.
URL:https://kulturjoker.de/veranstaltungen/stephan-bormann-traveler-on-guitar/
LOCATION:Rainhof Scheune Kirchzarten\, Höllentalstraße 96\, Kirchzarten\, Baden Württemberg\, 79199\, Germany
CATEGORIES:Musik
ATTACH;FMTTYPE=image/jpeg:https://kulturjoker.de/wp-content/uploads/2026/04/Bormann-scaled.jpg
END:VEVENT
BEGIN:VEVENT
DTSTART;TZID=Europe/Berlin:20260425T193000
DTEND;TZID=Europe/Berlin:20260425T220000
DTSTAMP:20260425T013242
CREATED:20260316T123900Z
LAST-MODIFIED:20260316T123900Z
UID:122013-1777145400-1777154400@kulturjoker.de
SUMMARY:Frühjahrs-Doppelkonzert im Tuniberghaus
DESCRIPTION:Der Musikverein Freiburg-Tiengen e.V. heißt als Gastgeber den Musikverein Freiburg-St.Georgen e.V. als Gastverein herzlich willkommen.\nBeim gemeinsamen Doppelkonzert präsentieren beide Orchester ein gut eingängiges\, ausgewogenes\, schwungvolles und abwechslungsreiches Repertoire.\nEröffnet wird der Abend vom Musikverein Freiburg-St.Georgen unter der musikalischen Leitung ihres Dirigenten Jürgen Burmeister mit sehr eingehenden Klängen:\n◦ Marsch-Bou-Shu (Satoshi Yagisawa)\n◦ Greensleeves (Alfred Reed)\n◦ Concert Prelude (Philipp Sparke)\n◦ Out of Africa (John Barry\, Arr. Johan de Meij)\n◦ The Wizard of Oz (Arr. James Barnes)\nNach einer Pause präsentiert im zweiten Teil der Musikverein Freiburg-Tiengen unter der musikalischen Leitung von MD Alfredo Mendieta eine bunte Mischung aus populären Melodien:\n◦ Sedona (Steven Reineke)\n◦ Lord Tullamore (Carl Wittrock)\n◦ Cake-Walk Phantasy (Peter Milray\, Arr. Johan de Meij)\n◦ My Fair Lady (Frederick Loewe\, Arr. Alfred Reed)\n◦ West Side Story (Leonard Bernstein\, Arr. Naohiro Iwai) \nKulinarik:\nFür das leibliche Wohl ist bestens gesorgt:\, es werden ausgewählte Weine aus Tiengen\, frische Sekte\, Aperol Spritz\, Drinks an der Bar sowie belegte Schnittchen angeboten. \nAnreise:\n• Öffentliche Verkehrsmittel: VAG\, FRELO – Haltestellen direkt vor dem Haus\n• Alternativ: Auto\, Rad oder zu Fuß\n• Parkmöglichkeiten direkt am Haus vorhanden \nTickets und Vorverkauf:\n• Vorverkauf: 10€ | Abendkasse: 12€\n• Schüler und Studenten unter Vorlage des Schüler-/Studentenausweises an der Abendkasse: 6€\n• Kinder unter 14 Jahren frei\n• Vorverkauf bei allen Musikerinnen/Musikern des Musikvereins Freiburg-Tiengen und des Musikvereins Freiburg-St.Georgen;\nzusätzlich bei Blumen-Stirba (Etzmattenstraße 6\, 79112 Freiburg-Tiengen) und Physio-Kinetik (Etzmattenstraße 37\, 79112 Freiburg-Tiengen) \nFreuen Sie sich auf einen frühlingsfrischen Konzertabend mit leichten Melodien\, die Frühlingsgefühle wecken\, gute Laune verbreiten und zum Zuhören einladen. Wir freuen uns auf Sie!
URL:https://kulturjoker.de/veranstaltungen/fruehjahrs-doppelkonzert-im-tuniberghaus/
LOCATION:Tuniberghaus\, Im Maierbrühl 2\, Freiburg im Breisgau\, 79112\, Deutschland
CATEGORIES:Kunst,Musik
ATTACH;FMTTYPE=image/jpeg:https://kulturjoker.de/wp-content/uploads/2026/03/Flyer-selbst-zusammengeschnitten-ohne-Werbung.jpg
ORGANIZER;CN="Musikverein Freiburg-Tiengen e.V.":MAILTO:vorstand-pr@mv-tiengen.de
END:VEVENT
BEGIN:VEVENT
DTSTART;TZID=Europe/Berlin:20260425T193000
DTEND;TZID=Europe/Berlin:20260425T233000
DTSTAMP:20260425T013242
CREATED:20260324T141204Z
LAST-MODIFIED:20260324T141204Z
UID:122808-1777145400-1777159800@kulturjoker.de
SUMMARY:Konzert Musikvereine Au und Hugstetten
DESCRIPTION:Am 25.04.2026 findet um 19:30 Uhr in Au ein Doppelkonzert der Musikvereine Au und Hugstetten statt. Einlass ins Auer Bürgerhaus ist ab 18:30 Uhr.\nDer Musikverein Hugstetten lädt zur „Teatime in Tokio“\, bevor der Musikverein Au mit dem Motto „Big City Beats“ die kleine Gemeinde in eine Großstadt verwandelt. Lassen Sie sich mit bekannten Stücken\, Hits\, Tanzbarem und Unerwartetem auf eine musikalische Reise mitnehmen. Hören\, sehen und schmecken Sie die Großstadt\, denn wie immer ist natürlich auch für das leibliche Wohl gesorgt.\nKarten gibt es am 17. und 24.04.2026 auf dem Auer Markt und am 25.04.2026 an der Abendkasse.
URL:https://kulturjoker.de/veranstaltungen/konzert-musikvereine-au-und-hugstetten/
LOCATION:Bürgerhaus Au\, Dorfstr. 25\, Au\, Baden-Württemberg\, 79280\, Germany
CATEGORIES:Musik
ATTACH;FMTTYPE=image/jpeg:https://kulturjoker.de/wp-content/uploads/2026/03/Ankuendigung_halbe_seite_2024_final.jpg
ORGANIZER;CN="Musikverein Au":MAILTO:vorstand@mvau.de
END:VEVENT
BEGIN:VEVENT
DTSTART;TZID=Europe/Berlin:20260425T200000
DTEND;TZID=Europe/Berlin:20260425T210000
DTSTAMP:20260425T013242
CREATED:20260316T123838Z
LAST-MODIFIED:20260316T123838Z
UID:121787-1777147200-1777150800@kulturjoker.de
SUMMARY:#lookoftheday
DESCRIPTION:Was wir tragen\, wie wir es tragen und woher es kommt – darin spiegelt sich eine weltweite Geschichte von Macht\, Ausbeutung und Verantwortung. Auch die Schweiz\, scheinbar neutral\, ist tief in diese Strukturen verstrickt. Die Textilindustrie\, von der Herstellung bis zur Entsorgung\, zeigt\, wie sehr wir als Konsument*innen Teil eines ungerechten Systems sind.\nDer Hashtag #lookoftheday steht für die schnelle Logik der Fast Fashion: Täglich neue Trends\, täglich neuer Konsum. Täglich zeigen Influencer*innen diesen Wandel auf Social Media. In diesem Theaterabend wird ihre Sicht zum Spiegel unseres eigenen Kaufverhaltens und unserer Rolle in der globalen Ausbeutung.\nRegisseur Gernot Grünewald\, bekannt für dokumentarisches Theater\, entwickelt das Projekt gemeinsam mit dem Magazin Reportagen. Die Recherche führt von China und Indien über Ghana und Haiti bis nach Bern – und eröffnet drängende Fragen zur Zukunft unserer Kleidung.\nEin globales Rechercheprojekt. In Kooperation mit dem Magazin Reportagen. Eine Produktion von Bühnen Bern im Rahmen von X-CHANGE – Nachhaltigkeit durch Austausch. Einführung 30 Minuten vor Vorstellungsbeginn
URL:https://kulturjoker.de/veranstaltungen/lookoftheday-2/
LOCATION:Theater Freiburg Kleines Haus\, Bertoldstr. 46\, Freiburg\, Baden - Württemberg\, 79098\, Germany
CATEGORIES:Theater
ATTACH;FMTTYPE=image/png:https://kulturjoker.de/wp-content/uploads/2026/03/TF_Stueckposter_lookoftheday-1.png
ORGANIZER;CN="Theater Freiburg":MAILTO:theaterkasse@theater.freiburg.de
END:VEVENT
BEGIN:VEVENT
DTSTART;TZID=Europe/Berlin:20260425T200000
DTEND;TZID=Europe/Berlin:20260425T213000
DTSTAMP:20260425T013242
CREATED:20260413T104812Z
LAST-MODIFIED:20260413T104812Z
UID:123999-1777147200-1777152600@kulturjoker.de
SUMMARY:Celebrating Life - Jubiläumskonzert Ökumenischer Chor Maria-Magdalena im Rieselfeld
DESCRIPTION:Ein Konzertabend zwischen mystischer Tiefe und strahlender Klangpracht erwartet das Publikum am Samstag\, 25. April 2026\, um 20 Uhr in der Kirche Maria-Magdalena in Freiburg-Rieselfeld. Unter dem Titel „Celebrating Life“ präsentiert der Ökumenische Chor Maria-Magdalena gemeinsam mit Orchester\, Klavier und der Solistin Elza Loginova ein abwechslungsreiches Programm unter der Leitung von Yana Kashcheva.\nIm Zentrum des Abends steht das „Magnificat“ des britischen Komponisten John Rutter\, eines der beliebtesten Werke moderner geistlicher Chormusik. Rutters 1990 entstandene Vertonung des biblischen Lobgesangs der Maria verbindet prachtvolle Chorsätze und Solostücke; sie enthält lyrische Passagen und lebendige Rhythmen – ein Werk voller Energie\, Farbenreichtum und Lebensfreude.\nWeitere Höhepunkte des Abends bilden zwei Werke des norwegischen Komponisten Ola Gjeilo: In „Dark Night of the Soul“ aus dem Jahr 2010 findet Gjeilo einen musikalischen Ausdruck für ein Gedicht des spanischen Mystikers Johannes vom Kreuz und schickt das Publikum eine Klangreise durch Zweifel\, Stille und Hoffnung. Das 2011 entstandene „Luminous Night of the Soul“ bildet dazu den leuchtenden Gegenpol: ein klangfarbenreiches Werk\, das die verbindende Kraft von Kunst\, Natur und menschlicher Gemeinschaft feiert.\nDer Ökumenische Chor Maria-Magdalena gestaltet mit diesem Programm einen Konzertabend\, der musikalisch zwischen Meditation\, Dramatik und überschäumender Freude wechselt – ein klangliches Fest des Lebens. Mit „Celebrating Life“ feiert der Ökumenische Chor Maria-Magdalena sein 25-jähriges Jubiläum.
URL:https://kulturjoker.de/veranstaltungen/celebrating-life-jubilaeumskonzert-oekumenischer-chor-maria-magdalena-im-rieselfeld/
LOCATION:Maria-von-Rudloff-Platz 1\, Maria-von-Rudloff-Platz\, Freiburg\, 79111\, Germany
CATEGORIES:Musik
ATTACH;FMTTYPE=image/jpeg:https://kulturjoker.de/wp-content/uploads/2026/04/Celebrating-Life_Digitale_Einladung-scaled.jpg
ORGANIZER;CN="%C3%96kumenischer Chor Maria Magdalena":MAILTO:kathrin_draeger@web.de
END:VEVENT
BEGIN:VEVENT
DTSTART;TZID=Europe/Berlin:20260425T200000
DTEND;TZID=Europe/Berlin:20260425T220000
DTSTAMP:20260425T013242
CREATED:20251213T102705Z
LAST-MODIFIED:20251213T102705Z
UID:59031-1777147200-1777154400@kulturjoker.de
SUMMARY:Julian Dawson – Jede Show ein Unikat
DESCRIPTION:Julian Dawsons Songwriter-Kunst hat viele musikalische Wurzeln. Er arbeitete mit Musikern wie Little Feat\, Can\, Plainsong\, BAP und Gerry Raffery. In mehr als 40 Jahren veröffentlichte er gut 20 Alben. Er tourt Jahr für Jahr durch Europa und Nordamerika mit seinen Gitarren\, seinen Mundharmonikas und natürlich seinem speziellen Sinn für Humor. 2013 hat er das erste Akustikalbum seines Freundes Wolfgang Niedecken produziert\, zuletzt ein zweites aus New Orleans. Beide waren ganz oben in den Charts. Als Singer-Songwriter ist Julian Dawson eine unerreichte Größe\, dessen Legende Jahr für Jahr längere Schatten wirft. \nMit: Julian Dawson
URL:https://kulturjoker.de/veranstaltungen/julian-dawson-jede-show-ein-unikat/
LOCATION:Theater Kumedi\, Römerstr. 2\, Riegel\, 79359\, Germany
CATEGORIES:Musik
ATTACH;FMTTYPE=image/jpeg:https://kulturjoker.de/wp-content/uploads/2025/12/Julian_Dawson-e1709740066242.jpg
ORGANIZER;CN="Theater Kumedi":MAILTO:info@kumedi.de
END:VEVENT
BEGIN:VEVENT
DTSTART;TZID=Europe/Berlin:20260425T200000
DTEND;TZID=Europe/Berlin:20260425T220000
DTSTAMP:20260425T013242
CREATED:20260316T123838Z
LAST-MODIFIED:20260316T123838Z
UID:122198-1777147200-1777154400@kulturjoker.de
SUMMARY:SONGRIDERS play Songwriters
DESCRIPTION:SONGRIDERS play songwriters … \nAm Samstag\, den 25. April\, findet im Merdinger Bürgersaal um 20 Uhr ein Konzert mit der Akustik-Band SONGRIDERS statt. Mike und Gabi Schaefer aus Merdingen\, in der Vergangenheit mit den SONGRIDERS eine feste Größe beim örtlichen Weinfest\, haben mit ihrem langjährigen musikalischen Weggefährten Peter Schad ein konzertantes Programm erarbeitet\, das sich ausschließlich den Highlights des Singer-Songwriter-Genres widmet. Mit Gitarre\, Geige\, Gesang und Percussion wird das Trio die Musik von Song-Poeten und Poetinnen wie Joan Baez\, Leonard Cohen\, Tracy Chapman\, Eric Clapton\, Bob Dylan\, Joni Mitchell\, Neil Young und vielen anderen interpretieren. Im akustisch geprägten „unplugged“-Sound\, mit live von Menschen gemachter Musik\, soll ein ruhiger\, intensiver Abend entstehen. Veranstalter ist das Merdinger Kunstforum\, für das leibliche Wohl ist gesorgt.\nDer Eintritt beträgt 10 Euro.
URL:https://kulturjoker.de/veranstaltungen/songriders-play-songwriters/
LOCATION:Merdingen\, Bürgersaal\, Langgasse 14\, 79291 Merdingen\, Baden-Württemberg\, 79291\, Germany
CATEGORIES:Musik
ATTACH;FMTTYPE=image/jpeg:https://kulturjoker.de/wp-content/uploads/2026/03/Peter-Gabrielle-Mike.jpg
ORGANIZER;CN="Merdinger Kunstforum":MAILTO:vorstand@merdinger-kunstforum.de
END:VEVENT
BEGIN:VEVENT
DTSTART;TZID=Europe/Berlin:20260425T200000
DTEND;TZID=Europe/Berlin:20260425T220000
DTSTAMP:20260425T013242
CREATED:20260316T123838Z
LAST-MODIFIED:20260316T123838Z
UID:63592-1777147200-1777154400@kulturjoker.de
SUMMARY:Krummer Hund
DESCRIPTION:nach dem Roman von Juliane Pickel | in einer Fassung von Jana Vetten und dem Theater im Marienbad\nEin Theaterstück für Erwachsene und Jugendliche ab 14 Jahren  \nGasförmige Hitze strömt durch den Körper\, die Brust zieht sich zusammen\, alles ist gleißend hell und es passiert: Daniel gibt es nicht mehr\, nur noch eine unbändige Wut\, die sich gewaltsam Bahn bricht. Das Leben des 15-Jährigen ist kompliziert: Vor Jahren hat Daniels Vater die Familie verlassen und jetzt wird auch noch sein kranker Hund Ozzy\, den ihm sein Vater zuletzt geschenkt hatte\, eingeschläfert. Und als wäre das nicht schon schlimm genug\, verabredet sich seine Mutter ausgerechnet mit dem Tierarzt. Zum Glück gibt es Edda\, Daniels beste Freundin und Quelle makaberster Zeichnungen. Ihr gemeinsames Langzeitprojekt ist es\, alles über ihre sadistische Mitschülerin Alina herauszufinden\, um sich eines Tages an ihr für ihre Boshaftigkeit zu rächen. Doch dann kommt alles anders. Ein Autounfall verändert das Leben der drei und stellt Daniel vor eine große Probe. \nSpielstätte: Szenenraum | Dauer: ca. 100 Minuten\, keine Pause\nHinweis: Die Spielstätte ist barrierearm und kann mit dem Rollstuhl befahren werden.  \nFoto: MiNZ&KUNST
URL:https://kulturjoker.de/veranstaltungen/krummer-hund-2/
LOCATION:Theater im Marienbad\, Marienstraße 4\, Freiburg im Breisgau\, 79098\, Germany
CATEGORIES:Theater
ATTACH;FMTTYPE=image/jpeg:https://kulturjoker.de/wp-content/uploads/2026/02/Krummer-Hund_Kalender_Foto-MiNZZKUNST-1.jpg
ORGANIZER;CN="Theater im Marienbad":MAILTO:presse@marienbad.org
END:VEVENT
BEGIN:VEVENT
DTSTART;TZID=Europe/Berlin:20260425T220000
DTEND;TZID=Europe/Berlin:20260425T233000
DTSTAMP:20260425T013242
CREATED:20260317T163807Z
LAST-MODIFIED:20260317T163807Z
UID:121797-1777154400-1777159800@kulturjoker.de
SUMMARY:Krach & Wonne
DESCRIPTION:Nach den Tanz-Gastspielen ist der Abend noch lange nicht zu Ende! Bei Krach & Wonne\, dem neuen After- show-Format\, bringen wir euch\, die Künstler*innen des Abends\, und DJs aus der lokalen Szene zusammen. Talk\, Musik und gemeinsam tanzen: Das Tanz-Programm geht in die Verlängerung!\nDas Tanz-Aftershowformat\, Musik kuratiert von Sympuls
URL:https://kulturjoker.de/veranstaltungen/krach-wonne-2/
LOCATION:Theater Freiburg\, Bertoldstraße 46\, Freiburg im Breisgau\, 79098\, Germany
CATEGORIES:Feste & Hocks
ORGANIZER;CN="Theater Freiburg":MAILTO:theaterkasse@theater.freiburg.de
END:VEVENT
END:VCALENDAR