BEGIN:VCALENDAR
VERSION:2.0
PRODID:-//Kultur Joker - ECPv6.15.20//NONSGML v1.0//EN
CALSCALE:GREGORIAN
METHOD:PUBLISH
X-WR-CALNAME:Kultur Joker
X-ORIGINAL-URL:https://kulturjoker.de
X-WR-CALDESC:Veranstaltungen für Kultur Joker
REFRESH-INTERVAL;VALUE=DURATION:PT1H
X-Robots-Tag:noindex
X-PUBLISHED-TTL:PT1H
BEGIN:VTIMEZONE
TZID:Europe/Berlin
BEGIN:DAYLIGHT
TZOFFSETFROM:+0100
TZOFFSETTO:+0200
TZNAME:CEST
DTSTART:20250330T010000
END:DAYLIGHT
BEGIN:STANDARD
TZOFFSETFROM:+0200
TZOFFSETTO:+0100
TZNAME:CET
DTSTART:20251026T010000
END:STANDARD
BEGIN:DAYLIGHT
TZOFFSETFROM:+0100
TZOFFSETTO:+0200
TZNAME:CEST
DTSTART:20260329T010000
END:DAYLIGHT
BEGIN:STANDARD
TZOFFSETFROM:+0200
TZOFFSETTO:+0100
TZNAME:CET
DTSTART:20261025T010000
END:STANDARD
BEGIN:DAYLIGHT
TZOFFSETFROM:+0100
TZOFFSETTO:+0200
TZNAME:CEST
DTSTART:20270328T010000
END:DAYLIGHT
BEGIN:STANDARD
TZOFFSETFROM:+0200
TZOFFSETTO:+0100
TZNAME:CET
DTSTART:20271031T010000
END:STANDARD
END:VTIMEZONE
BEGIN:VEVENT
DTSTART;TZID=Europe/Berlin:20260423T190000
DTEND;TZID=Europe/Berlin:20260423T210000
DTSTAMP:20260423T021147
CREATED:20260407T115926Z
LAST-MODIFIED:20260407T115926Z
UID:122963-1776970800-1776978000@kulturjoker.de
SUMMARY:Community Event-Board Game Night
DESCRIPTION:Kommt zu unserem Brettspielabend in der CSH-Bibliothek! Genießt einen entspannten Abend mit Spielen\, fairem Wettstreit und Gemeinschaft. Wir bieten eine große Auswahl an Spielen\, von schnellen Partyspielen bis hin zu beliebten Strategiespielen\, und ihr könnt gerne eure eigenen Spiele mitbringen\, um sie mit anderen zu teilen. Egal\, ob ihr erfahrene Spieler:innen seid oder einfach nur nach einer unterhaltsamen Möglichkeit sucht\, euch zu entspannen – hier ist für jede:n etwas dabei. Snacks werden bereitgestellt\, solange der Vorrat reicht.
URL:https://kulturjoker.de/veranstaltungen/community-event-board-game-night/
LOCATION:Carl-Schurz-Haus Freiburg\, Eisenbahnstr. 62\, Freiburg\, Baden-Württemberg\, 79098
CATEGORIES:Allgemein
ATTACH;FMTTYPE=image/jpeg:https://kulturjoker.de/wp-content/uploads/2026/03/2026_04_23_Board-Game-Night-scaled.jpg
ORGANIZER;CN="Carl-Schurz-Haus / Deutsch-Amerikanisches Institut e.V.":MAILTO:info@carl-schurz-haus.de
END:VEVENT
BEGIN:VEVENT
DTSTART;TZID=Europe/Berlin:20260423T200000
DTEND;TZID=Europe/Berlin:20260423T213000
DTSTAMP:20260423T021147
CREATED:20260316T123837Z
LAST-MODIFIED:20260316T123837Z
UID:122434-1776974400-1776979800@kulturjoker.de
SUMMARY:Soë Blue Live – Same Heart Tour
DESCRIPTION:Soë Blue Singer-Songwriterin am Piano und Dominic Eschmann am Schlagzeug\nErstmalige Deutschlandtour 2026 \nEine musikalische Reise mit gefühlvollen Songs\, ehrlichen Worten und einer unverwechselbaren souligen Stimme. Die Zürcher Singer-Songwriterin Soë Blue performt Songs aus ihren letzten drei Alben – darunter Tracks von ihrer 3-monatigen Nashville-Reise 2024. Plus neue Singles und exklusive Einblicke in noch unveröffentlichte Songs aus dem Münchner TWH Studio. Ob zarte Balladen oder groovige Songs – jede Note erzählt vom Mut\, sich selbst treu zu bleiben\, vom Lieben\, Verlieren und Wiederfinden. Handgemachte Musik. Ein besonderer Moment und du mittendrin.\nWe may not look the same – but we share the same heart.\n(www.soeblue.com)
URL:https://kulturjoker.de/veranstaltungen/soe-blue-live-same-heart-tour/
LOCATION:Theater am Kastelberg\, Bergstraße 8\, Waldkirch\, 79183\, Deutschland
CATEGORIES:Musik
ORGANIZER;CN="Freies Theater Waldkirch e.V.":MAILTO:info@freies-theater-waldkirch.de
END:VEVENT
END:VCALENDAR