BEGIN:VCALENDAR
VERSION:2.0
PRODID:-//Kultur Joker - ECPv6.15.20//NONSGML v1.0//EN
CALSCALE:GREGORIAN
METHOD:PUBLISH
X-WR-CALNAME:Kultur Joker
X-ORIGINAL-URL:https://kulturjoker.de
X-WR-CALDESC:Veranstaltungen für Kultur Joker
REFRESH-INTERVAL;VALUE=DURATION:PT1H
X-Robots-Tag:noindex
X-PUBLISHED-TTL:PT1H
BEGIN:VTIMEZONE
TZID:Europe/Berlin
BEGIN:DAYLIGHT
TZOFFSETFROM:+0100
TZOFFSETTO:+0200
TZNAME:CEST
DTSTART:20250330T010000
END:DAYLIGHT
BEGIN:STANDARD
TZOFFSETFROM:+0200
TZOFFSETTO:+0100
TZNAME:CET
DTSTART:20251026T010000
END:STANDARD
BEGIN:DAYLIGHT
TZOFFSETFROM:+0100
TZOFFSETTO:+0200
TZNAME:CEST
DTSTART:20260329T010000
END:DAYLIGHT
BEGIN:STANDARD
TZOFFSETFROM:+0200
TZOFFSETTO:+0100
TZNAME:CET
DTSTART:20261025T010000
END:STANDARD
BEGIN:DAYLIGHT
TZOFFSETFROM:+0100
TZOFFSETTO:+0200
TZNAME:CEST
DTSTART:20270328T010000
END:DAYLIGHT
BEGIN:STANDARD
TZOFFSETFROM:+0200
TZOFFSETTO:+0100
TZNAME:CET
DTSTART:20271031T010000
END:STANDARD
END:VTIMEZONE
BEGIN:VEVENT
DTSTART;TZID=Europe/Berlin:20260422T190000
DTEND;TZID=Europe/Berlin:20260422T203000
DTSTAMP:20260422T015440
CREATED:20260407T115920Z
LAST-MODIFIED:20260407T115920Z
UID:122957-1776884400-1776889800@kulturjoker.de
SUMMARY:Talk mit Kais Harrabi\, Lena Frey\, René Freudenthal\, Sabine Pawletta: Carl-Schurz-Haus-Televisionary Talk Club: Heated Rivalry
DESCRIPTION:Eishockey ist der Sport der harten Kerle\, der von fliegenden Pucks demolierten Gebisse und der maximalen Testosteron-Dichte im Stadion. Kein Ort für die (leidenschaftliche) Liebe zwischen zwei durchtrainierten jungen Männern – denkt man! Doch während die US-Eishockeyliga NHL noch über ihr überkommenes Männerbild grübelt\, hat das Internet die Umkleidekabine längst gestürmt. Im „Televisionary Talk Club“ knöpfen sich die Hosts Sabine Pawletta und René Freudenthal das globale Phänomen „Heated Rivalry“ vor – den Serien-Superhit der Stunde um eine schwule Romanze auf Kufen. Was treibt etliche Millionen gebannte Zuschauer:innen auf der ganzen Welt dazu\, bei der (sehr) intimen Dauerfehde zweier kanadischer Top-Athleten kollektiv den Atem anzuhalten? Ist es die Sehnsucht nach einer Welt\, in der der härteste ‚Check‘ in zärtlicher Hingabe endet\, oder schlicht die (sehr) ansehnliche Anatomie der Hauptdarsteller Connor Storrie und Hudson Williams – beide sofortige Shootingstars? Deutschlandfunk-Kultur-Kritiker Kais Harrabi\, der als Kulturjournalist die Serie für den Sender besprochen hat\, und Romance-Expertin und Buchhändlerin Lena Frey sezieren mit den Hosts das buchstäbliche Bildschirm-Knistern. Wir fragen uns: Warum ist ausgerechnet das Eis der Ort\, an dem die maskulinen Masken so lustvoll fallen? Harrabi und Frey wissen\, dass die heißesten Dynamiken entstehen\, wenn es unter dem Helm ordentlich funkt. Das Motto des „Televisionary Talk Club“: Anspruchsvoll? Sicher. Ernsthaft? Nur da\, wo es sein muss.
URL:https://kulturjoker.de/veranstaltungen/talk-mit-kais-harrabi-lena-frey-rene-freudenthal-sabine-pawletta-carl-schurz-haus-televisionary-talk-club-heated-rivalry/
LOCATION:Carl-Schurz-Haus Freiburg\, Eisenbahnstr. 62\, Freiburg\, Baden-Württemberg\, 79098
CATEGORIES:Vorträge & Gespräche
ATTACH;FMTTYPE=image/png:https://kulturjoker.de/wp-content/uploads/2026/03/2026_04_22_Heated_Rivalry_title_card.png
ORGANIZER;CN="Carl-Schurz-Haus / Deutsch-Amerikanisches Institut e.V.":MAILTO:info@carl-schurz-haus.de
END:VEVENT
BEGIN:VEVENT
DTSTART;TZID=Europe/Berlin:20260422T190000
DTEND;TZID=Europe/Berlin:20260422T210000
DTSTAMP:20260422T015440
CREATED:20260316T123837Z
LAST-MODIFIED:20260316T123837Z
UID:121764-1776884400-1776891600@kulturjoker.de
SUMMARY:TheaterTreff
DESCRIPTION:Der TheaterTreff ist eine monatliche Veranstaltung während der Spielzeit und wird von den TheaterFreunden in Zusammenarbeit mit dem Theater Freiburg organisiert. In der Regel findet der TheaterTreff jeden zweiten Mittwoch des Monats um 19:00 Uhr im Winterer-Foyer statt. \nZu Gast sind unterschiedliche Persönlichkeiten aus den verschiedenen Berufssparten rund um das Theater Freiburg: Künstler*innen\, Mitarbeitende und viele weitere Theaterschaffende. Sie stehen Rede und Antwort\, lassen teilhaben an ihrer Arbeit\, ihren Lebensgeschichten\, Erlebnissen und Träumen. Bei Gesprächsgästen aus Werkstätten des Theaters gibt es während des TheaterTreffs eine Führung in die entsprechenden Räume und vor Ort Erklärungen zum jeweilgen Handwerk. \nDer TheaterTreff ist zugänglich für alle am Theaterleben Interessierten. Der Eintritt ist frei\, eine Anmeldung nicht nötig. Eine Mitgliedschaft bei den TheaterFreunden ist keine Zugangsvoraussetzung\, wir freuen uns jedoch\, wenn Sie sich dafür entscheiden!\nDie TheaterFreunde laden alle Interessierten ein. Zu Gast: Wolfgang Dreher (Leitung Schreinerei). Mit anschließendem Besuch in der Werkstatt. Moderation: Barbara Gillmann
URL:https://kulturjoker.de/veranstaltungen/theatertreff/
LOCATION:Theater Freiburg Winterer Foyer\, Bertoldstr. 46\, Freiburg\, Baden - Württemberg\, 79098\, Germany
CATEGORIES:Vorträge & Gespräche
ORGANIZER;CN="Theater Freiburg":MAILTO:theaterkasse@theater.freiburg.de
END:VEVENT
BEGIN:VEVENT
DTSTART;TZID=Europe/Berlin:20260422T210000
DTEND;TZID=Europe/Berlin:20260422T220000
DTSTAMP:20260422T015440
CREATED:20260316T123837Z
LAST-MODIFIED:20260316T123837Z
UID:121266-1776891600-1776895200@kulturjoker.de
SUMMARY:BScene 2026 – Festivaleröffnung mit BARANY
DESCRIPTION:Seit drei Jahrzehnten steht das Basler Musikfestival BScene für die Vielfalt der lokalen Szene. Unter dem Jubiläumsmotto «Basel wird BScene» eröffnet das Festival seine diesjährige Ausgabe mit BARANY im Gare du Nord. \nMit: BARANY: Tanya Zimmermann (Vocals/Gitarre/Bass); David Friedli (Gitarre);\nMeret Siebenhaar (Keys); Julien Pinheiro (Schlagzeug); Simon Huber (Sound Engineer)
URL:https://kulturjoker.de/veranstaltungen/bscene-2026-festivaleroeffnung-mit-barany/
LOCATION:Gare du Nord Basel\, Schwarzwaldallee\, Basel\, Basel-Stadt\, 4058\, Switzerland
CATEGORIES:Musik
ATTACH;FMTTYPE=image/jpeg:https://kulturjoker.de/wp-content/uploads/2026/02/000_BARANY_c_Steven-Lobaton-quer.jpg
ORGANIZER;CN="Gare du Nord":MAILTO:info@garedunord.ch
END:VEVENT
END:VCALENDAR