BEGIN:VCALENDAR
VERSION:2.0
PRODID:-//Kultur Joker - ECPv6.15.20//NONSGML v1.0//EN
CALSCALE:GREGORIAN
METHOD:PUBLISH
X-WR-CALNAME:Kultur Joker
X-ORIGINAL-URL:https://kulturjoker.de
X-WR-CALDESC:Veranstaltungen für Kultur Joker
REFRESH-INTERVAL;VALUE=DURATION:PT1H
X-Robots-Tag:noindex
X-PUBLISHED-TTL:PT1H
BEGIN:VTIMEZONE
TZID:Europe/Berlin
BEGIN:DAYLIGHT
TZOFFSETFROM:+0100
TZOFFSETTO:+0200
TZNAME:CEST
DTSTART:20250330T010000
END:DAYLIGHT
BEGIN:STANDARD
TZOFFSETFROM:+0200
TZOFFSETTO:+0100
TZNAME:CET
DTSTART:20251026T010000
END:STANDARD
BEGIN:DAYLIGHT
TZOFFSETFROM:+0100
TZOFFSETTO:+0200
TZNAME:CEST
DTSTART:20260329T010000
END:DAYLIGHT
BEGIN:STANDARD
TZOFFSETFROM:+0200
TZOFFSETTO:+0100
TZNAME:CET
DTSTART:20261025T010000
END:STANDARD
BEGIN:DAYLIGHT
TZOFFSETFROM:+0100
TZOFFSETTO:+0200
TZNAME:CEST
DTSTART:20270328T010000
END:DAYLIGHT
BEGIN:STANDARD
TZOFFSETFROM:+0200
TZOFFSETTO:+0100
TZNAME:CET
DTSTART:20271031T010000
END:STANDARD
END:VTIMEZONE
BEGIN:VEVENT
DTSTART;TZID=Europe/Berlin:20260421T193000
DTEND;TZID=Europe/Berlin:20260421T210000
DTSTAMP:20260421T020506
CREATED:20260316T123837Z
LAST-MODIFIED:20260316T123837Z
UID:121760-1776799800-1776805200@kulturjoker.de
SUMMARY:Concert & Crémant: Spring Affair mit Cassandra Wright
DESCRIPTION:Sopranistin Cassandra Wright versprüht gemeinsam mit dem Pianisten Ilan Kurtser einen musikalischen Frühlingswind. Mit Liedrepertoire von Franz Schubert\, Richard Strauss\, Samuel Barber u. a. Im Anschluss gibt es entspannte Drinks mit den Künstler*innen an der Bar.\nLiederabend mit Cassandra Wright (Sopran) und Ilan Kurtser (Klavier)
URL:https://kulturjoker.de/veranstaltungen/concert-cremant-spring-affair-mit-cassandra-wright/
LOCATION:Theater Freiburg Winterer Foyer\, Bertoldstr. 46\, Freiburg\, Baden - Württemberg\, 79098\, Germany
CATEGORIES:Musik,Theater
ORGANIZER;CN="Theater Freiburg":MAILTO:theaterkasse@theater.freiburg.de
END:VEVENT
END:VCALENDAR